Felt | Verdi |
AlreadyApplied | True |
Aperture | 6.7 |
ApertureValue | 6.7 |
BitsPerSample | 8 |
BlackClip | 0.400900 |
BlueHue | 0 |
BlueSaturation | 0 |
Brightness | +4 |
CameraProfile | Adobe Standard |
ChromaticAberrationB | 0 |
ChromaticAberrationR | 0 |
CircleOfConfusion | 0.020 mm |
Clarity | +100 |
ColorComponents | 3 |
ColorMode | RGB |
ColorNoiseReduction | 25 |
ColorNoiseReductionDetail | 50 |
ColorSaturation | 30.0 |
ColorSpace | sRGB |
ColorTemperature | -4.9 |
Contrast | +76 |
ConvertToGrayscale | True |
CreateDate (1) | 2013:01:09 13:32:29.00 |
CreateDate | 2013:01:09 13:32:29 |
CreatorTool | Adobe Photoshop Lightroom 3.5 (Windows) |
CropAngle | 0 |
CropBottom | 0.996255 |
CropConstrainToWarp | 0 |
CropHeight | 2857 |
CropLeft | 0.182045 |
CropRight | 0.790524 |
CropTop | 0 |
CropUnit | pixels |
CropWidth | 2623 |
CustomRendered | Normal |
DateCreated | 2013:01:09 |
DateTimeDigitized | 2013:01:09 13:32:29+01:00 |
DateTimeOriginal (1) | 2013:01:09 13:32:29+01:00 |
DateTimeOriginal | 2013:01:09 13:32:29 |
Defringe | 0 |
DigitalZoomRatio | 1 |
ExifImageHeight | 2857 |
ExifImageWidth | 2623 |
Exposure | 0.00 |
ExposureMode | Manual |
ExposureProgram | Manual |
ExposureTime | 0.3 |
FillLight | 13 |
Flash | No Flash |
FlashFired | False |
FlashFunction | False |
FlashMode | Unknown |
FlashRedEyeMode | False |
FlashReturn | No return detection |
FNumber | 6.7 |
FocalLength | 10.0 mm |
FocalLength35efl | 10.0 mm (35 mm equivalent: 15.0 mm) |
FocalLengthIn35mmFormat | 15 mm |
Format | image/jpeg |
FOV | 100.4 deg |
Gamma | 1.58 |
GrainAmount | 0 |
GrayMixerAqua | -10 |
GrayMixerBlue | +20 |
GrayMixerGreen | -19 |
GrayMixerMagenta | +28 |
GrayMixerOrange | +4 |
GrayMixerPurple | +25 |
GrayMixerRed | +29 |
GrayMixerYellow | -13 |
GreenHue | 0 |
GreenSaturation | 0 |
HasCrop | True |
HasSettings | True |
HighlightRecovery | 100 |
HighlightsSmoothing | 48.0 |
HyperfocalDistance | 0.75 m |
ICCProfileName | sRGB IEC61966-2.1 |
ImageHeight | 2857 |
ImageSize | 2623x2857 |
ImageWidth | 2623 |
IncrementalTemperature | +8 |
IncrementalTint | -16 |
ISO | 200 |
IsPano360 | No |
LensManualDistortionAmount | 0 |
LensProfileEnable | 0 |
LensProfileSetup | LensDefaults |
LightValue | 6.1 |
LuminanceSmoothing | 0 |
Luminosity | 8.1 |
Make | NIKON CORPORATION |
Megapixels | 7.5 |
MeteringMode | Spot |
Method | Details Enhancer |
Microcontrast | 8.0 |
Microsmoothing | 4.0 |
Model | NIKON D90 |
ModifyDate (1) | 2013:05:21 14:42:49+02:00 |
ModifyDate | 2013:05:21 14:42:49 |
Orientation | Horizontal (normal) |
PaintCorrectionActive | true |
PaintCorrectionAmount | 1.000000 |
PaintCorrectionBrightness | -0.362830 |
PaintCorrectionClarity | 0.000000 |
PaintCorrectionContrast | 0.000000 |
PaintCorrectionExposure | -0.239000 |
PaintCorrectionHue | 240.000000 |
PaintCorrectionMaskCenterWeight | 0.072866 |
PaintCorrectionMaskFlow | 0.888000 |
PaintCorrectionMaskRadius | 0.005178 |
PaintCorrectionMaskValue | 0.870000 |
PaintCorrectionMaskWhat | Mask/Paint |
PaintCorrectionSaturation | 0.000000 |
PaintCorrectionSharpness | 0.000000 |
PaintCorrectionWhat | Correction |
ParametricDarks | -17 |
ParametricHighlights | 0 |
ParametricHighlightSplit | 75 |
ParametricLights | +28 |
ParametricMidtoneSplit | 50 |
ParametricShadows | 0 |
ParametricShadowSplit | 25 |
PerspectiveHorizontal | 0 |
PerspectiveRotate | 0.0 |
PerspectiveScale | 100 |
PerspectiveVertical | 0 |
PostCropVignetteAmount | 0 |
ProcessVersion | 5.7 |
ProfileDescription | sRGB IEC61966-2.1 |
RedHue | 0 |
RedSaturation | 0 |
SaturationHighlights | 0.0 |
SaturationShadows | 0.0 |
ScaleFactor35efl | 1.5 |
SceneCaptureType | Landscape |
Shadows | 0 |
ShadowsClipping | 0.0 |
ShadowsSmoothing | 0.0 |
ShadowTint | 0 |
SharpenDetail | 25 |
SharpenEdgeMasking | 0 |
SharpenRadius | +1.0 |
Sharpness | 25 |
ShutterSpeed | 0.3 |
ShutterSpeedValue | 0.3 |
Smoothing | Medium |
SmoothingMode | Light |
Software | Adobe Photoshop Elements 9.0 Windows |
SplitToningBalance | 0 |
SplitToningHighlightHue | 52 |
SplitToningHighlightSaturation | 64 |
SplitToningShadowHue | 37 |
SplitToningShadowSaturation | 22 |
Strength | 100.0 |
SubjectDistanceRange | Unknown |
ToneCurve | 0, 0, 32, 22, 64, 56, 128, 128, 192, 196, 255, 255 |
ToneCurveName | Medium Contrast |
URL_List | |
Version (1) | 4.2 |
Version | 6.5 |
VignetteAmount | 0 |
WhiteBalance (1) | Custom |
WhiteBalance | Auto |
WhiteClip | 1.124050 |