Felt | Verdi |
AlreadyApplied | True |
Aperture | 10.0 |
ApertureValue | 10.0 |
Artist | KJELL DIEDRIK PETTERSEN |
BitsPerSample | 8 |
BlueHue | -69 |
BlueSaturation | +12 |
Brightness | +64 |
By-line | KJELL DIEDRIK PETTERSEN |
CameraProfile | ACR 2.4 |
ChromaticAberrationB | 0 |
ChromaticAberrationR | 0 |
CircleOfConfusion | 0.019 mm |
Clarity | +20 |
ColorComponents | 3 |
ColorNoiseReduction | 25 |
ColorNoiseReductionDetail | 50 |
ColorTemperature | 7400 |
Contrast | +54 |
ConvertToGrayscale | False |
Copyright | COPYRIGHT KD PETTERSEN |
CopyrightNotice | COPYRIGHT KD PETTERSEN |
CreateDate (1) | 2012:11:06 19:26:19.00+01:00 |
CreateDate | 2012:11:06 19:26:19 |
Creator | KJELL DIEDRIK PETTERSEN |
CreatorTool | Adobe Photoshop Lightroom 3.3 |
CropAngle | 0 |
CropBottom | 0.901914 |
CropConstrainToWarp | 0 |
CropHeight | 1359 |
CropLeft | 0.208391 |
CropRight | 1 |
CropTop | 0.026316 |
CropUnit | pixels |
CropWidth | 1843 |
CustomRendered | Normal |
DateTimeDigitized | 2012:11:06 19:26:19.00+01:00 |
DateTimeOriginal (1) | 2012:11:06 19:26:19.00+01:00 |
DateTimeOriginal | 2012:11:06 19:26:19 |
Defringe | 2 |
ExifImageHeight | 1359 |
ExifImageWidth | 1843 |
Exposure | -0.41 |
ExposureCompensation | 0 |
ExposureMode | Manual |
ExposureProgram | Manual |
ExposureTime | 1/80 |
FillLight | 0 |
Firmware | 1.2.3 |
Flash | On, Fired |
FlashCompensation | 0 |
FlashFired | True |
FlashFunction | False |
FlashMode | On |
FlashRedEyeMode | False |
FlashReturn | No return detection |
FNumber | 10.0 |
FocalLength | 50.0 mm |
FocalLength35efl | 50.0 mm (35 mm equivalent: 78.5 mm) |
FOV | 25.8 deg |
GrainAmount | 0 |
GreenHue | -69 |
GreenSaturation | +90 |
HasCrop | True |
HasSettings | True |
HighlightRecovery | 10 |
HueAdjustmentAqua | 0 |
HueAdjustmentBlue | 0 |
HueAdjustmentGreen | -1 |
HueAdjustmentMagenta | +17 |
HueAdjustmentOrange | +15 |
HueAdjustmentPurple | 0 |
HueAdjustmentRed | +33 |
HueAdjustmentYellow | -2 |
HyperfocalDistance | 13.07 m |
ImageHeight | 1359 |
ImageNumber | 0 |
ImageSize | 1843x1359 |
ImageWidth | 1843 |
ISO | 100 |
Lens | EF50mm f/1.8 II |
LensID (1) | 29 |
LensID | Canon EF 50mm f/1.8 II |
LensInfo | 50mm f/? |
LensManualDistortionAmount | 0 |
LensModel | EF50mm f/1.8 II |
LensProfileEnable | 0 |
LensProfileSetup | LensDefaults |
LightValue | 13.0 |
LuminanceAdjustmentAqua | 0 |
LuminanceAdjustmentBlue | 0 |
LuminanceAdjustmentGreen | 0 |
LuminanceAdjustmentMagenta | 0 |
LuminanceAdjustmentOrange | 0 |
LuminanceAdjustmentPurple | 0 |
LuminanceAdjustmentRed | 0 |
LuminanceAdjustmentYellow | +38 |
LuminanceSmoothing | 0 |
Make | Canon |
MaxApertureValue | 1.8 |
Megapixels | 2.5 |
MeteringMode | Center-weighted average |
Model | Canon EOS 7D |
ModifyDate (1) | 2012:11:06 20:20:47+01:00 |
ModifyDate | 2012:11:06 20:20:47 |
PaintCorrectionActive | true |
PaintCorrectionAmount | 1.000000 |
PaintCorrectionBrightness | 0.000000 |
PaintCorrectionClarity | 0.000000 |
PaintCorrectionContrast (1) | 0.268000 |
PaintCorrectionContrast (2) | 0.756000 |
PaintCorrectionContrast | 0.000000 |
PaintCorrectionExposure | 0.000000 |
PaintCorrectionHue (2) | 0.000000 |
PaintCorrectionHue (3) | 242.000000 |
PaintCorrectionHue | 233.000000 |
PaintCorrectionMaskCenterWeight | 0.000000 |
PaintCorrectionMaskFlow | 1.000000 |
PaintCorrectionMaskRadius (1) | 0.015839 |
PaintCorrectionMaskRadius (6) | 0.015837 |
PaintCorrectionMaskRadius (9) | 0.010948 |
PaintCorrectionMaskRadius | 0.009374 |
PaintCorrectionMaskValue | 1.000000 |
PaintCorrectionMaskWhat | Mask/Paint |
PaintCorrectionSaturation (1) | 0.561000 |
PaintCorrectionSaturation (4) | 0.000000 |
PaintCorrectionSaturation (6) | 0.459000 |
PaintCorrectionSaturation | 0.859000 |
PaintCorrectionSharpness | 0.000000 |
PaintCorrectionWhat | Correction |
ParametricDarks | 0 |
ParametricHighlights | 0 |
ParametricHighlightSplit | 75 |
ParametricLights | -2 |
ParametricMidtoneSplit | 50 |
ParametricShadows | 0 |
ParametricShadowSplit | 25 |
PerspectiveHorizontal | 0 |
PerspectiveRotate | 0.0 |
PerspectiveScale | 100 |
PerspectiveVertical | 0 |
PostCropVignetteAmount | 0 |
ProcessVersion | 5.7 |
ProfileDescription | sRGB IEC61966-2.1 |
RedHue | +14 |
RedSaturation | +10 |
Rights | COPYRIGHT KD PETTERSEN |
Saturation | -88 |
SaturationAdjustmentAqua | 0 |
SaturationAdjustmentBlue | 0 |
SaturationAdjustmentGreen | 0 |
SaturationAdjustmentMagenta | 0 |
SaturationAdjustmentOrange | 0 |
SaturationAdjustmentPurple | 0 |
SaturationAdjustmentRed | 0 |
SaturationAdjustmentYellow | -10 |
ScaleFactor35efl | 1.6 |
SceneCaptureType | Standard |
SensitivityType | Unknown |
SerialNumber | 480522533 |
Shadows | 5 |
ShadowTint | -52 |
SharpenDetail | 25 |
SharpenEdgeMasking | 0 |
SharpenRadius | +1.0 |
Sharpness | 122 |
ShutterSpeed | 1/80 |
ShutterSpeedValue | 1/80 |
SplitToningBalance | +14 |
SplitToningHighlightHue | 34 |
SplitToningHighlightSaturation | 6 |
SplitToningShadowHue | 30 |
SplitToningShadowSaturation | 15 |
Tint | -35 |
ToneCurve | 0, 0, 255, 255 |
ToneCurveName | Linear |
Version | 6.3 |
Vibrance | +81 |
VignetteAmount | -100 |
VignetteMidpoint | 50 |
WhiteBalance (2) | Custom |
WhiteBalance | Auto |