Felt | Verdi |
AlreadyApplied | True |
Aperture | 9.0 |
ApertureValue | 9.0 |
BitsPerSample | 8 |
BlueHue | 0 |
BlueSaturation | 0 |
Brightness | 0 |
CameraProfile | Embedded |
ChromaticAberrationB | 0 |
ChromaticAberrationR | 0 |
CircleOfConfusion | 0.031 mm |
Clarity | 0 |
ColorComponents | 3 |
ColorMode | RGB |
ColorNoiseReduction | 0 |
ColorSpace | Uncalibrated |
Contrast | +6 |
ConvertToGrayscale | False |
CreateDate (1) | 2010:03:10 12:23:59.99+01:00 |
CreateDate | 2010:03:10 12:23:59 |
CreatorTool | Adobe Photoshop CS4 Macintosh |
CustomRendered | Normal |
DateTimeDigitized | 2010:03:10 12:23:59.99+01:00 |
DateTimeOriginal (1) | 2010:03:10 12:23:59.99+01:00 |
DateTimeOriginal | 2010:03:10 12:23:59 |
Defringe | 0 |
ExifImageHeight | 1233 |
ExifImageWidth | 1000 |
Exposure | +0.15 |
ExposureCompensation | 0 |
ExposureMode | Manual |
ExposureProgram | Manual |
ExposureTime | 1/125 |
FillLight | 4 |
Firmware | 1.0.7 |
Flash | Off, Did not fire |
FlashCompensation | 0 |
FlashFired | False |
FlashFunction | False |
FlashMode | Off |
FlashRedEyeMode | False |
FlashReturn | No return detection |
FNumber | 9.0 |
FocalLength | 50.0 mm |
FocalLength35efl | 50.0 mm (35 mm equivalent: 48.8 mm) |
Format | image/jpeg |
FOV | 40.5 deg |
GreenHue | 0 |
GreenSaturation | 0 |
HasCrop | False |
HasSettings | True |
HighlightRecovery | 4 |
HueAdjustmentAqua | 0 |
HueAdjustmentBlue | 0 |
HueAdjustmentGreen | 0 |
HueAdjustmentMagenta | 0 |
HueAdjustmentOrange | +8 |
HueAdjustmentPurple | 0 |
HueAdjustmentRed | +23 |
HueAdjustmentYellow | -12 |
HyperfocalDistance | 9.02 m |
ICCProfileName | Adobe RGB (1998) |
ImageHeight | 1233 |
ImageNumber | 0 |
ImageSize | 1000x1233 |
ImageWidth | 1000 |
IncrementalTemperature | +1 |
IncrementalTint | -1 |
ISO | 100 |
Lens | EF50mm f/1.4 USM |
LensInfo | 50mm f/? |
LightValue | 13.3 |
LuminanceAdjustmentAqua | 0 |
LuminanceAdjustmentBlue | 0 |
LuminanceAdjustmentGreen | 0 |
LuminanceAdjustmentMagenta | -73 |
LuminanceAdjustmentOrange | -4 |
LuminanceAdjustmentPurple | 0 |
LuminanceAdjustmentRed | -7 |
LuminanceAdjustmentYellow | +27 |
LuminanceSmoothing | 0 |
Make | Canon |
MaxApertureValue | 1.4 |
Megapixels | 1.2 |
MeteringMode | Multi-segment |
Model | Canon EOS 5D Mark II |
ModifyDate (1) | 2010:07:29 04:57:57+02:00 |
ModifyDate | 2010:07:29 04:57:57 |
Orientation | Horizontal (normal) |
ParametricDarks | -4 |
ParametricHighlights | -3 |
ParametricHighlightSplit | 75 |
ParametricLights | +7 |
ParametricMidtoneSplit | 50 |
ParametricShadows | 0 |
ParametricShadowSplit | 25 |
PostCropVignetteAmount | 0 |
ProfileDescription | Adobe RGB (1998) |
Rating | 0 |
RawFileName | IMG_1947.jpg |
RedHue | 0 |
RedSaturation | 0 |
Saturation | 0 |
SaturationAdjustmentAqua | 0 |
SaturationAdjustmentBlue | 0 |
SaturationAdjustmentGreen | 0 |
SaturationAdjustmentMagenta | 0 |
SaturationAdjustmentOrange | 0 |
SaturationAdjustmentPurple | 0 |
SaturationAdjustmentRed | 0 |
SaturationAdjustmentYellow | 0 |
ScaleFactor35efl | 1.0 |
SceneCaptureType | Standard |
SerialNumber | 530320310 |
Shadows | 0 |
ShadowTint | 0 |
SharpenDetail | 25 |
SharpenEdgeMasking | 0 |
SharpenRadius | +1.0 |
Sharpness | 0 |
ShutterSpeed | 1/125 |
ShutterSpeedValue | 1/125 |
Software | Adobe Photoshop CS4 Macintosh |
SplitToningBalance | 0 |
SplitToningHighlightHue | 56 |
SplitToningHighlightSaturation | 2 |
SplitToningShadowHue | 218 |
SplitToningShadowSaturation | 5 |
ToneCurve | 0, 0, 255, 255 |
ToneCurveName | Linear |
URL_List | |
Version | 5.4 |
Vibrance | 0 |
VignetteAmount | 0 |
WhiteBalance (2) | Custom |
WhiteBalance | Manual |