Felt | Verdi |
AlreadyApplied | True |
Aperture | 2.8 |
ApertureValue | 2.8 |
Artist | Christer Hansen Eriksen |
BitsPerSample | 8 |
BlueHue | 0 |
BlueSaturation | 0 |
Brightness | +50 |
By-line | Christer Hansen Eriksen |
CameraProfile | Adobe Standard |
Caption-Abstract | Thursday night the police was contacted by some worried neighbours of Ulriken who told them a person had been walking around in the mountain for several hours. They were concered that he was lost. Luftambulansen, a medical helicopter, were sent out on a search but concluded that no one was on the mountain at this hour. |
ChromaticAberrationB | 0 |
ChromaticAberrationR | 0 |
CircleOfConfusion | 0.019 mm |
Clarity | +17 |
ColorComponents | 3 |
ColorNoiseReduction | 25 |
ColorTemperature | 3500 |
Contrast | +25 |
ConvertToGrayscale | False |
Copyright | Chreriksen |
CopyrightFlag | True |
CopyrightNotice | Chreriksen |
CreateDate (1) | 2010:03:04 21:46:53.43+01:00 |
CreateDate | 2010:03:04 21:46:53 |
Creator | Christer Hansen Eriksen |
CreatorTool | Adobe Photoshop Lightroom |
CreatorWorkEmail | chreriksen@me.com |
CreatorWorkURL | flickr.com/chreriksen |
CustomRendered | Normal |
DateTimeDigitized | 2010:03:04 21:46:53.43+01:00 |
DateTimeOriginal (1) | 2010:03:04 21:46:53.43+01:00 |
DateTimeOriginal | 2010:03:04 21:46:53 |
Defringe | 0 |
Description | Thursday night the police was contacted by some worried neighbours of Ulriken who told them a person had been walking around in the mountain for several hours. They were concered that he was lost. Luftambulansen, a medical helicopter, were sent out on a search but concluded that no one was on the mountain at this hour. |
DOF | inf (432.03 m - inf) |
ExifImageHeight | 2848 |
ExifImageWidth | 4272 |
Exposure | 0.00 |
ExposureCompensation | 0 |
ExposureMode | Manual |
ExposureProgram | Manual |
ExposureTime | 1/5 |
FillLight | 28 |
Firmware | 1.1.0 |
Flash | Off, Did not fire |
FlashCompensation | 0 |
FlashFired | False |
FlashFunction | False |
FlashMode | Off |
FlashRedEyeMode | False |
FlashReturn | No return detection |
FNumber | 2.8 |
FocalLength | 150.0 mm |
FocalLength35efl | 150.0 mm (35 mm equivalent: 242.3 mm) |
FOV | 8.5 deg |
GreenHue | 0 |
GreenSaturation | 0 |
HasCrop | False |
HasSettings | True |
HierarchicalSubject | Bergen, Helicopter Search, Mountain, Night, Press, Snow, Tips, Ulriken, Winter |
HighlightRecovery | 0 |
HueAdjustmentAqua | 0 |
HueAdjustmentBlue | 0 |
HueAdjustmentGreen | 0 |
HueAdjustmentMagenta | 0 |
HueAdjustmentOrange | 0 |
HueAdjustmentPurple | 0 |
HueAdjustmentRed | 0 |
HueAdjustmentYellow | 0 |
HyperfocalDistance | 432.03 m |
ImageDescription | Thursday night the police was contacted by some worried neighbours of Ulriken who told them a person had been walking around in the mountain for several hours. They were concered that he was lost. Luftambulansen, a medical helicopter, were sent out on a search but concluded that no one was on the mountain at this hour. |
ImageHeight | 2848 |
ImageNumber | 0 |
ImageSize | 4272x2848 |
ImageWidth | 4272 |
ISO | 1600 |
Keywords | Bergen, Helicopter Search, Mountain, Night, Press, Snow, Tips, Ulriken, Winter |
Lens | EF70-200mm f/2.8L IS USM |
LensID (1) | 224 |
LensID | Canon EF 70-200mm f/2.8L IS USM |
LensInfo | 70-200mm f/? |
LightValue | 1.3 |
LuminanceAdjustmentAqua | 0 |
LuminanceAdjustmentBlue | 0 |
LuminanceAdjustmentGreen | 0 |
LuminanceAdjustmentMagenta | 0 |
LuminanceAdjustmentOrange | 0 |
LuminanceAdjustmentPurple | 0 |
LuminanceAdjustmentRed | 0 |
LuminanceAdjustmentYellow | 0 |
LuminanceSmoothing | 0 |
Make | Canon |
Marked | True |
MaxApertureValue | 2.8 |
Megapixels | 12.2 |
MeteringMode | Multi-segment |
Model | Canon EOS 450D |
ModifyDate (1) | 2010:03:05 10:19:16+01:00 |
ModifyDate | 2010:03:05 10:19:16 |
ObjectName | Searching Ulriken |
OwnerName | Christer Hansen Eriksen |
ParametricDarks | 0 |
ParametricHighlights | 0 |
ParametricHighlightSplit | 75 |
ParametricLights | 0 |
ParametricMidtoneSplit | 50 |
ParametricShadows | 0 |
ParametricShadowSplit | 25 |
PostCropVignetteAmount | 0 |
ProfileDescription | sRGB IEC61966-2.1 |
RedHue | 0 |
RedSaturation | 0 |
Rights | Chreriksen |
Saturation | 0 |
SaturationAdjustmentAqua | 0 |
SaturationAdjustmentBlue | 0 |
SaturationAdjustmentGreen | 0 |
SaturationAdjustmentMagenta | 0 |
SaturationAdjustmentOrange | 0 |
SaturationAdjustmentPurple | 0 |
SaturationAdjustmentRed | 0 |
SaturationAdjustmentYellow | 0 |
ScaleFactor35efl | 1.6 |
SceneCaptureType | Standard |
SerialNumber | 1380330704 |
Shadows | 5 |
ShadowTint | 0 |
SharpenDetail | 25 |
SharpenEdgeMasking | 0 |
SharpenRadius | +1.0 |
Sharpness | 47 |
ShutterSpeed | 1/5 |
ShutterSpeedValue | 1/5 |
SplitToningBalance | 0 |
SplitToningHighlightHue | 0 |
SplitToningHighlightSaturation | 0 |
SplitToningShadowHue | 0 |
SplitToningShadowSaturation | 0 |
Subject | Bergen, Helicopter Search, Mountain, Night, Press, Snow, Tips, Ulriken, Winter |
SubjectDistance | 4294967295 m |
Tint | -4 |
Title | Searching Ulriken |
ToneCurve | 0, 0, 32, 22, 64, 56, 128, 128, 192, 196, 255, 255 |
ToneCurveName | Medium Contrast |
Version | 5.6 |
Vibrance | +19 |
VignetteAmount | 0 |
WhiteBalance (2) | As Shot |
WhiteBalance | Auto |