Felt | Verdi |
2009-03-16T21:05:20+01:00 File K:\Bilder\BILDER, orginal\Hunnebo april 2008\Hunnebo_april_2008-1510-Edit.psd saved
2009-03-16T21:06:35+01:00 File K:\Bilder\BILDER, ferdig\Hunnebo april 2008\Hunnebo_april_2008-1510.psd saved
2009-03-16T21:10:15+01:00 File K:\Bilder\BILDER, orginal\Hunnebo april 2008\Hunnebo_april_2008-1510-Edit.psd saved
2009-03-16T21:11:06+01:00 File K:\Bilder\BILDER, ferdig\Hunnebo april 2008\Hunnebo_april_2008-1510.psd saved
2009-03-16T21:15:08+01:00 File K:\Bilder\BILDER, ferdig\Hunnebo april 2008\Hunnebo_april_2008-1510.psd saved
2009-03-16T21:16:45+01:00 File K:\Bilder\BILDER, orginal\Hunnebo april 2008\Hunnebo_april_2008-1510-Edit.psd saved
2009-03-16T21:17:22+01:00 File K:\Bilder\BILDER, ferdig\Hunnebo april 2008\Hunnebo_april_2008-1510.psd saved
2009-03-16T21:22:38+01:00 File K:\Bilder\BILDER, ferdig\Hunnebo april 2008\Hunnebo_april_2008-1510.psd saved
2009-03-16T21:23:10+01:00 File K:\Bilder\BILDER, ferdig\Hunnebo april 2008\Hunnebo_april_2008-1510.psd saved
2009-03-16T21:24:18+01:00 File K:\Bilder\BILDER, til redigering\Foto.no\Hunnebo_april_2008-1510.jpg saved
2009-03-16T21:29:32+01:00 File Hunnebo_april_2008-1510.jpg opened
2009-03-16T21:31:17+01:00 File K:\Bilder\BILDER, til redigering\Foto.no\Hunnebo_april_2008-1510.jpg saved
AlreadyApplied | True |
Aperture | 9.0 |
ApertureValue | 9.0 |
Artist | Truls Erik Nilsen |
BitsPerSample | 8 |
BlueHue | 0 |
BlueSaturation | 0 |
Brightness | +50 |
By-line | Truls Erik Nilsen |
CameraProfile | Adobe Standard |
CFAPattern | [Green,Blue][Red,Green] |
ChromaticAberrationB | 0 |
ChromaticAberrationR | 0 |
CircleOfConfusion | 0.020 mm |
Clarity | +48 |
ColorComponents | 3 |
ColorMode | RGB |
ColorNoiseReduction | 25 |
ColorSpace | Uncalibrated |
ColorTemperature | 5500 |
Contrast (2) | +59 |
Contrast | High |
ConvertToGrayscale | False |
Copyright | Truls Erik Nilsen (C) 2008 |
CopyrightFlag | True |
CopyrightNotice | Truls Erik Nilsen (C) 2008 |
CreateDate (1) | 2008:04:26 15:43:09.10+02:00 |
CreateDate | 2008:04:26 15:43:09 |
Creator | Truls Erik Nilsen |
CreatorAddress | Jacobine Ryes vei 25 |
CreatorCity | Oslo |
CreatorCountry | Norway |
CreatorPostalCode | 0987 |
CreatorTool | Adobe Photoshop Lightroom |
CreatorWorkEmail | t-erini@online.no |
CreatorWorkTelephone | 0047 91517816 |
CropAngle | 0 |
CropBottom | 1 |
CropLeft | 0 |
CropRight | 1 |
CropTop | 0 |
CustomRendered | Normal |
DateTimeDigitized | 2008:04:26 15:43:09.10+02:00 |
DateTimeOriginal (1) | 2008:04:26 15:43:09.10+02:00 |
DateTimeOriginal | 2008:04:26 15:43:09 |
Defringe | 0 |
DigitalZoomRatio | 1 |
ExifImageHeight | 697 |
ExifImageWidth | 1050 |
Exposure | -0.57 |
ExposureCompensation | 0 |
ExposureMode | Auto |
ExposureProgram | Aperture-priority AE |
ExposureTime | 1/400 |
FillLight | 11 |
Flash | No Flash |
FlashFired | False |
FlashFunction | False |
FlashMode | Unknown |
FlashRedEyeMode | False |
FlashReturn | No return detection |
FNumber | 9.0 |
FocalLength | 75.0 mm |
FocalLength35efl | 75.0 mm (35 mm equivalent: 112.0 mm) |
FocalLengthIn35mmFormat | 112 mm |
Format | image/jpeg |
FOV | 18.3 deg |
GainControl | None |
GreenHue | 0 |
GreenSaturation | 0 |
HasCrop | True |
HasSettings | True |
HierarchicalSubject | Hunnebo |
HighlightRecovery | 83 |
HueAdjustmentAqua | 0 |
HueAdjustmentBlue | 0 |
HueAdjustmentGreen | 0 |
HueAdjustmentMagenta | 0 |
HueAdjustmentOrange | 0 |
HueAdjustmentPurple | 0 |
HueAdjustmentRed | 0 |
HueAdjustmentYellow | 0 |
HyperfocalDistance | 31.06 m |
ICCProfileName | Adobe RGB (1998) |
ImageHeight | 697 |
ImageNumber | 1878 |
ImageSize | 1050x697 |
ImageWidth | 1050 |
ISO | 200 |
Keywords | Hunnebo |
Lens | 18.0-200.0 mm f/3.5-5.6 |
LensInfo | 18-200mm f/3.5-5.6 |
LightSource | Cloudy |
LightValue | 14.0 |
LuminanceAdjustmentAqua | 0 |
LuminanceAdjustmentBlue | 0 |
LuminanceAdjustmentGreen | 0 |
LuminanceAdjustmentMagenta | 0 |
LuminanceAdjustmentOrange | 0 |
LuminanceAdjustmentPurple | 0 |
LuminanceAdjustmentRed | 0 |
LuminanceAdjustmentYellow | 0 |
LuminanceSmoothing | 0 |
Make | NIKON CORPORATION |
Marked | True |
MaxApertureValue | 5.1 |
Megapixels | 0.732 |
MeteringMode | Multi-segment |
Model | NIKON D80 |
ModifyDate (1) | 2009:03:16 21:31:17+01:00 |
ModifyDate | 2009:03:16 21:31:17 |
Orientation | Horizontal (normal) |
ParametricDarks | 0 |
ParametricHighlights | 0 |
ParametricHighlightSplit | 75 |
ParametricLights | 0 |
ParametricMidtoneSplit | 50 |
ParametricShadows | 0 |
ParametricShadowSplit | 25 |
PostCropVignetteAmount | 0 |
ProfileDescription | Adobe RGB (1998) |
Rating | 0 |
RawFileName | Hunnebo_april_2008-1510.NEF |
RedHue | 0 |
RedSaturation | 0 |
Rights | Truls Erik Nilsen (C) 2008 |
Saturation (2) | 0 |
Saturation | Normal |
SaturationAdjustmentAqua | 0 |
SaturationAdjustmentBlue | 0 |
SaturationAdjustmentGreen | 0 |
SaturationAdjustmentMagenta | 0 |
SaturationAdjustmentOrange | 0 |
SaturationAdjustmentPurple | 0 |
SaturationAdjustmentRed | 0 |
SaturationAdjustmentYellow | 0 |
ScaleFactor35efl | 1.5 |
SceneCaptureType | Standard |
SceneType | Directly photographed |
SensingMethod | One-chip color area |
SerialNumber | 4386529 |
Shadows | 76 |
ShadowTint | 0 |
SharpenDetail | 25 |
SharpenEdgeMasking | 0 |
SharpenRadius | +1.0 |
Sharpness (2) | 25 |
Sharpness | Normal |
ShutterSpeed | 1/400 |
ShutterSpeedValue | 1/400 |
Software | Adobe Photoshop CS4 Windows |
SplitToningBalance | 0 |
SplitToningHighlightHue | 0 |
SplitToningHighlightSaturation | 0 |
SplitToningShadowHue | 0 |
SplitToningShadowSaturation | 0 |
Subject | Hunnebo |
SubjectDistanceRange | Unknown |
Tint | +10 |
ToneCurve | 0, 0, 32, 22, 64, 56, 128, 128, 192, 196, 255, 255 |
ToneCurveName | Medium Contrast |
URL_List | |
UsageTerms | No usage authorized with prior written permission |
Version | 5.3 |
Vibrance | +29 |
VignetteAmount | +48 |
VignetteMidpoint | 50 |
WhiteBalance (2) | Daylight |
WhiteBalance | Manual |