Felt | Verdi |
AlreadyApplied | True |
Aperture | 10.0 |
ApertureValue | 10.0 |
Artist | Hinrich Bäsemann |
BitsPerSample (1) | 16, 16, 16 |
BitsPerSample (2) | 16 16 16 |
BitsPerSample | 8 |
BlueHue | 0 |
BlueSaturation | 0 |
Brightness | +50 |
By-line | Hinrich Bäsemann |
CameraProfile | ACR 4.1 |
CaptionWriter | Hinrich Bäsemann |
ChromaticAberrationB | 0 |
ChromaticAberrationR | 0 |
CircleOfConfusion | 0.023 mm |
City | Tromsø |
Clarity | 27 |
ColorComponents | 3 |
ColorMode | RGB |
ColorNoiseReduction | 69 |
ColorSpace | sRGB |
ColorTemperature | 5700 |
Contrast | +50 |
ConvertToGrayscale | False |
CopyrightFlag | False |
Country | Norwegen |
Country-PrimaryLocationName | Norwegen |
CreateDate (1) | 2008:08:19 18:31:27+02:00 |
CreateDate | 2008:08:19 15:48:09 |
Creator | Hinrich Bäsemann |
CreatorTool | Adobe Photoshop CS3 Windows |
CropAngle | 0 |
CropBottom | 0.81829 |
CropHeight | 1204 |
CropLeft | 0.22407 |
CropRight | 0.626287 |
CropTop | 0.353919 |
CropUnit | pixels |
CropWidth | 1564 |
CustomRendered | Normal |
DateCreated | 2008:08:19 |
DateTimeDigitized | 2008:08:19 15:48:09.08+02:00 |
DateTimeOriginal (1) | 2008:08:19 15:48:09.08+02:00 |
DateTimeOriginal | 2008:08:19 15:48:09 |
Defringe | 0 |
ExifImageHeight | 750 |
ExifImageWidth | 928 |
Exposure | 0.00 |
ExposureCompensation | +2/3 |
ExposureMode | Auto |
ExposureProgram | Program AE |
ExposureTime | 1/1600 |
FillLight | 0 |
Firmware | 1.1.3 |
Flash | No Flash |
FlashCompensation | 0 |
FlashFired | False |
FlashFunction | False |
FlashMode | Unknown |
FlashRedEyeMode | False |
FlashReturn | No return detection |
FNumber | 10.0 |
FocalLength | 600.0 mm |
FocalLength35efl | 600.0 mm (35 mm equivalent: 768.8 mm) |
Format | image/jpeg |
FOV | 2.7 deg |
GreenHue | 0 |
GreenSaturation | 0 |
HasCrop | True |
HasSettings | True |
Headline | Wanderfalke schlägt junge Seeshwalbe, Norwegen; Norway, Tromsø, Prestvannet, Vögel, birds, Raubvogel, bird of prey, Wanderfalke, falco peregrinus, peregrine, Seeschwalbe, tern, juvenil, |
HighlightRecovery | 0 |
HueAdjustmentAqua | 0 |
HueAdjustmentBlue | 0 |
HueAdjustmentGreen | 0 |
HueAdjustmentMagenta | 0 |
HueAdjustmentOrange | 0 |
HueAdjustmentPurple | 0 |
HueAdjustmentRed | 0 |
HueAdjustmentYellow | 0 |
HyperfocalDistance | 1535.31 m |
ICCProfileName | sRGB IEC61966-2.1 |
ImageHeight (1) | 2837 |
ImageHeight (2) | 1204 |
ImageHeight | 750 |
ImageNumber | 0 |
ImageSize | 928x750 |
ImageWidth (1) | 3685 |
ImageWidth (2) | 1564 |
ImageWidth | 928 |
ISO | 640 |
Keywords | Norwegen, Norway, Tromsø, Prestvannet, Vögel, birds, Raubvogel, bird of prey, Wanderfalke, falco peregrinus, peregrine, Seeschwalbe, tern, juvenil |
Lens | EF600mm f/4L IS USM |
LensInfo | 600mm f/? |
LightValue | 14.6 |
LuminanceAdjustmentAqua | 0 |
LuminanceAdjustmentBlue | 0 |
LuminanceAdjustmentGreen | 0 |
LuminanceAdjustmentMagenta | 0 |
LuminanceAdjustmentOrange | 0 |
LuminanceAdjustmentPurple | 0 |
LuminanceAdjustmentRed | 0 |
LuminanceAdjustmentYellow | 0 |
LuminanceSmoothing | 43 |
Make | Canon |
MaxApertureValue | 4.0 |
Megapixels | 0.696 |
MeteringMode | Multi-segment |
Model | Canon EOS-1D Mark III |
ModifyDate (1) | 2008:08:20 15:02:31+02:00 |
ModifyDate | 2008:08:20 15:02:31 |
ObjectName | Wanderfalke schlägt junge Seeschwalbe |
Orientation | Horizontal (normal) |
ParametricDarks | 0 |
ParametricHighlights | 0 |
ParametricHighlightSplit | 75 |
ParametricLights | 0 |
ParametricMidtoneSplit | 50 |
ParametricShadows | 0 |
ParametricShadowSplit | 25 |
PhotometricInterpretation | RGB |
PlanarConfiguration | Chunky |
ProfileDescription | sRGB IEC61966-2.1 |
Province-State | Troms |
RedHue | 0 |
RedSaturation | 0 |
SamplesPerPixel | 3 |
Saturation | +18 |
SaturationAdjustmentAqua | 0 |
SaturationAdjustmentBlue | 0 |
SaturationAdjustmentGreen | 0 |
SaturationAdjustmentMagenta | 0 |
SaturationAdjustmentOrange | 0 |
SaturationAdjustmentPurple | 0 |
SaturationAdjustmentRed | 0 |
SaturationAdjustmentYellow | 0 |
ScaleFactor35efl | 1.3 |
SceneCaptureType | Standard |
SerialNumber | 505499 |
Shadows | 5 |
ShadowTint | 0 |
SharpenDetail | 25 |
SharpenEdgeMasking | 0 |
SharpenRadius | +0.6 |
Sharpness | 70 |
ShutterSpeed | 1/1600 |
ShutterSpeedValue | 1/1600 |
Software | Adobe Photoshop CS3 Windows |
Source | basemann@online.no |
SplitToningBalance | 0 |
SplitToningHighlightHue | 0 |
SplitToningHighlightSaturation | 0 |
SplitToningShadowHue | 0 |
SplitToningShadowSaturation | 0 |
State | Troms |
Subject | Norwegen, Norway, Tromsø, Prestvannet, Vögel, birds, Raubvogel, bird of prey, Wanderfalke, falco peregrinus, peregrine, Seeschwalbe, tern, juvenil |
Tint | +7 |
Title | Wanderfalke schlägt junge Seeschwalbe |
ToneCurve | 0, 0, 32, 22, 64, 56, 128, 128, 192, 196, 255, 255 |
ToneCurveName | Medium Contrast |
URL_List | |
Version | 1.0 |
Vibrance | +22 |
VignetteAmount | 0 |
WhiteBalance (2) | As Shot |
WhiteBalance | Auto |
Writer-Editor | Hinrich Bäsemann |