Felt | Verdi |
AlreadyApplied | True |
Aperture | 4.5 |
ApertureValue | 4.5 |
ApproximateFocusDistance | 9.44 |
AutoLateralCA | 0 |
AutoWhiteVersion | 134348800 |
BitsPerSample | 8 |
Blacks2012 | -24 |
BlueHue | 0 |
BlueSaturation | 0 |
CameraProfile | Adobe Standard |
CFAPattern | [Red,Green][Green,Blue] |
CircleOfConfusion | 0.020 mm |
Clarity2012 | +26 |
ColorComponents | 3 |
ColorNoiseReduction | 25 |
ColorNoiseReductionDetail | 50 |
ColorNoiseReductionSmoothness | 50 |
ColorSpace | sRGB |
ColorTemperature | 7500 |
ColorTransform | YCbCr |
Contrast | Normal |
Contrast2012 | +83 |
ConvertToGrayscale | True |
CreateDate (1) | 2017:11:09 17:04:10.25 |
CreateDate | 2017:11:09 17:04:10 |
CreatorTool | Adobe Photoshop Lightroom 6.12 (Windows) |
CropAngle | 0.359969 |
CropBottom | 0.910316 |
CropConstrainToWarp | 0 |
CropLeft | 0.006752 |
CropRight | 0.993622 |
CropTop | 0 |
CustomRendered | Custom |
DateCreated (1) | 2017:11:09 |
DateCreated | 2017:11:09 17:04:10.25 |
DateTimeOriginal | 2017:11:09 17:04:10 |
Dehaze | 0 |
DigitalZoomRatio | 1 |
DOF | 29.97 m (5.45 - 35.41 m) |
Exposure2012 | -1.91 |
ExposureCompensation | +2/3 |
ExposureMode | Manual |
ExposureProgram | Manual |
ExposureTime | 20 |
Flash | No Flash |
FNumber | 4.5 |
FocalLength | 34.0 mm |
FocalLength35efl | 34.0 mm (35 mm equivalent: 51.0 mm) |
FocalLengthIn35mmFormat | 51 mm |
Format | image/jpeg |
FOV | 38.9 deg |
GainControl | Low gain up |
GradientBasedCorrActive | true |
GradientBasedCorrAmount | 1.000000 |
GradientBasedCorrBrightness | 0.000000 |
GradientBasedCorrClarity2012 | 0.000000 |
GradientBasedCorrContrast2012 (1) | 0.181820 |
GradientBasedCorrContrast2012 | 0.000000 |
GradientBasedCorrDefringe | 0.000000 |
GradientBasedCorrExposure2012 (1) | -0.394000 |
GradientBasedCorrExposure2012 | -0.075750 |
GradientBasedCorrHighlights2012 (1) | -0.257580 |
GradientBasedCorrHighlights2012 | -0.681820 |
GradientBasedCorrHue | 0.000000 |
GradientBasedCorrLocalBlacks2012 | 0.000000 |
GradientBasedCorrLocalDehaze | 0.000000 |
GradientBasedCorrLocalWhites2012 | 0.000000 |
GradientBasedCorrLuminanceNoise | 0.000000 |
GradientBasedCorrMaskFullX (1) | 0.503019 |
GradientBasedCorrMaskFullX | 0.505650 |
GradientBasedCorrMaskFullY (1) | 0.004694 |
GradientBasedCorrMaskFullY | 0.287352 |
GradientBasedCorrMaskValue | 1.000000 |
GradientBasedCorrMaskWhat | Mask/Gradient |
GradientBasedCorrMaskZeroX (1) | 0.501834 |
GradientBasedCorrMaskZeroX | 0.503052 |
GradientBasedCorrMaskZeroY (1) | 0.288750 |
GradientBasedCorrMaskZeroY | 0.909980 |
GradientBasedCorrMoire | 0.000000 |
GradientBasedCorrSaturation (1) | -0.227270 |
GradientBasedCorrSaturation | 0.000000 |
GradientBasedCorrShadows2012 | 0.075760 |
GradientBasedCorrSharpness | 0.000000 |
GradientBasedCorrTemperature (1) | -0.484850 |
GradientBasedCorrTemperature | 0.000000 |
GradientBasedCorrTint | 0.000000 |
GradientBasedCorrWhat | Correction |
GrainAmount | 0 |
GrayMixerAqua | -8 |
GrayMixerBlue | +33 |
GrayMixerGreen | -33 |
GrayMixerMagenta | +8 |
GrayMixerOrange | -28 |
GrayMixerPurple | +33 |
GrayMixerRed | -16 |
GrayMixerYellow | -33 |
GreenHue | 0 |
GreenSaturation | 0 |
HasCrop | True |
HasSettings | True |
Highlights2012 | 0 |
HyperfocalDistance | 12.82 m |
ImageHeight | 2566 |
ImageNumber | 33431 |
ImageSize | 4248x2566 |
ImageWidth | 4248 |
ISO | 800 |
Keywords | Goksoyra, longexposure, molo |
Lens | 16.0-85.0 mm f/3.5-5.6 |
LensID (1) | 153 |
LensID | AF-S DX VR Zoom-Nikkor 16-85mm f/3.5-5.6G ED |
LensInfo | 16-85mm f/3.5-5.6 |
LensManualDistortionAmount | 0 |
LensModel | 16.0-85.0 mm f/3.5-5.6 |
LensProfileEnable | 0 |
LensProfileSetup | LensDefaults |
LightSource | Unknown |
LightValue | -3.0 |
LuminanceSmoothing | 0 |
Make | NIKON CORPORATION |
MaxApertureValue | 4.6 |
Megapixels | 10.9 |
MeteringMode | Spot |
Model | NIKON D300S |
ModifyDate (1) | 2017:11:10 18:33:24+01:00 |
ModifyDate | 2017:11:10 18:33:24 |
ParametricDarks | 0 |
ParametricHighlights | 0 |
ParametricHighlightSplit | 75 |
ParametricLights | 0 |
ParametricMidtoneSplit | 50 |
ParametricShadows | 0 |
ParametricShadowSplit | 25 |
PerspectiveAspect | 0 |
PerspectiveHorizontal | 0 |
PerspectiveRotate | 0.0 |
PerspectiveScale | 100 |
PerspectiveUpright | 0 |
PerspectiveVertical | 0 |
PerspectiveX | 0.00 |
PerspectiveY | 0.00 |
PostCropVignetteAmount | 0 |
ProcessVersion | 6.7 |
ProfileDescription | sRGB IEC61966-2.1 |
RedHue | 0 |
RedSaturation | 0 |
Saturation | Normal |
ScaleFactor35efl | 1.5 |
SceneCaptureType | Standard |
SceneType | Directly photographed |
SensingMethod | One-chip color area |
SerialNumber | 6035495 |
Shadows2012 | -69 |
ShadowTint | 0 |
SharpenDetail | 25 |
SharpenEdgeMasking | 0 |
SharpenRadius | +1.0 |
Sharpness (1) | 25 |
Sharpness | Normal |
ShutterSpeed | 20 |
ShutterSpeedValue | 20 |
Software | Adobe Photoshop Lightroom 6.12 (Windows) |
SplitToningBalance | 0 |
SplitToningHighlightHue | 0 |
SplitToningHighlightSaturation | 0 |
SplitToningShadowHue | 0 |
SplitToningShadowSaturation | 0 |
Subject | Goksoyra, longexposure, molo |
SubjectDistanceRange | Unknown |
Tint | +14 |
ToneCurve | 0, 0, 255, 255 |
ToneCurveBlue | 0, 0, 255, 255 |
ToneCurveGreen | 0, 0, 255, 255 |
ToneCurveName | Linear |
ToneCurveName2012 | Linear |
ToneCurvePV2012 | 0, 0, 255, 255 |
ToneCurvePV2012Blue | 0, 0, 255, 255 |
ToneCurvePV2012Green | 0, 0, 255, 255 |
ToneCurvePV2012Red | 0, 0, 255, 255 |
ToneCurveRed | 0, 0, 255, 255 |
ToneMapStrength | 0 |
Version | 9.12 |
VignetteAmount | 0 |
WhiteBalance | Auto |
Whites2012 | +22 |