Felt | Verdi |
AlreadyApplied | True |
Aperture | 8.0 |
ApertureValue | 8.0 |
ApproximateFocusDistance | 3.49 |
Artist | Mikkel Nordbaek |
AutoLateralCA | 1 |
AutoWhiteVersion | 134348800 |
BitsPerSample | 8 |
Blacks2012 | -29 |
BlueHue | 0 |
BlueSaturation | 0 |
By-line | Mikkel Nordbaek |
CameraProfile | Camera Standard |
CircGradBasedCorrActive | true |
CircGradBasedCorrAmount | 1.000000 |
CircGradBasedCorrBrightness | 0.000000 |
CircGradBasedCorrClarity2012 | 0.000000 |
CircGradBasedCorrContrast2012 | 0.000000 |
CircGradBasedCorrDefringe | 0.000000 |
CircGradBasedCorrExposure2012 (12) | 0.103000 |
CircGradBasedCorrExposure2012 (14) | 0.132250 |
CircGradBasedCorrExposure2012 (15) | -0.029500 |
CircGradBasedCorrExposure2012 (16) | 0.029500 |
CircGradBasedCorrExposure2012 (17) | 0.470500 |
CircGradBasedCorrExposure2012 (2) | 0.206000 |
CircGradBasedCorrExposure2012 (4) | 0.044000 |
CircGradBasedCorrExposure2012 (5) | 0.147000 |
CircGradBasedCorrExposure2012 | 0.191250 |
CircGradBasedCorrHighlights2012 | 0.000000 |
CircGradBasedCorrHue (17) | 58.000000 |
CircGradBasedCorrHue | 0.000000 |
CircGradBasedCorrLocalBlacks2012 | 0.000000 |
CircGradBasedCorrLocalDehaze | 0.000000 |
CircGradBasedCorrLocalWhites2012 | 0.000000 |
CircGradBasedCorrLuminanceNoise | 0.000000 |
CircGradBasedCorrMaskAngle | -0.672000 |
CircGradBasedCorrMaskBottom (1) | 0.628419 |
CircGradBasedCorrMaskBottom (10) | 0.400393 |
CircGradBasedCorrMaskBottom (11) | 0.388533 |
CircGradBasedCorrMaskBottom (12) | 0.388050 |
CircGradBasedCorrMaskBottom (13) | 0.393547 |
CircGradBasedCorrMaskBottom (14) | 0.332232 |
CircGradBasedCorrMaskBottom (15) | 0.749027 |
CircGradBasedCorrMaskBottom (16) | 0.600026 |
CircGradBasedCorrMaskBottom (17) | 0.602249 |
CircGradBasedCorrMaskBottom (18) | 0.436777 |
CircGradBasedCorrMaskBottom (2) | 0.627853 |
CircGradBasedCorrMaskBottom (3) | 0.628888 |
CircGradBasedCorrMaskBottom (4) | 0.373869 |
CircGradBasedCorrMaskBottom (5) | 0.398133 |
CircGradBasedCorrMaskBottom (6) | 0.595559 |
CircGradBasedCorrMaskBottom (7) | 0.597690 |
CircGradBasedCorrMaskBottom (8) | 0.406521 |
CircGradBasedCorrMaskBottom (9) | 0.405122 |
CircGradBasedCorrMaskBottom | 0.539654 |
CircGradBasedCorrMaskFeather | +100 |
CircGradBasedCorrMaskFlipped | true |
CircGradBasedCorrMaskLeft (1) | 0.455275 |
CircGradBasedCorrMaskLeft (10) | 0.329426 |
CircGradBasedCorrMaskLeft (11) | 0.631103 |
CircGradBasedCorrMaskLeft (12) | 0.687353 |
CircGradBasedCorrMaskLeft (13) | 0.745555 |
CircGradBasedCorrMaskLeft (14) | 0.452677 |
CircGradBasedCorrMaskLeft (15) | 0.805833 |
CircGradBasedCorrMaskLeft (16) | 0.135503 |
CircGradBasedCorrMaskLeft (17) | 0.053643 |
CircGradBasedCorrMaskLeft (18) | 0.487872 |
CircGradBasedCorrMaskLeft (2) | 0.487279 |
CircGradBasedCorrMaskLeft (3) | 0.521000 |
CircGradBasedCorrMaskLeft (4) | 0.843113 |
CircGradBasedCorrMaskLeft (5) | 0.081662 |
CircGradBasedCorrMaskLeft (6) | 0.247547 |
CircGradBasedCorrMaskLeft (7) | 0.300807 |
CircGradBasedCorrMaskLeft (8) | 0.222022 |
CircGradBasedCorrMaskLeft (9) | 0.274780 |
CircGradBasedCorrMaskLeft | 0.488824 |
CircGradBasedCorrMaskMidpoint | +50 |
CircGradBasedCorrMaskRight (1) | 0.490022 |
CircGradBasedCorrMaskRight (10) | 0.373932 |
CircGradBasedCorrMaskRight (11) | 0.675376 |
CircGradBasedCorrMaskRight (12) | 0.731193 |
CircGradBasedCorrMaskRight (13) | 0.788883 |
CircGradBasedCorrMaskRight (14) | 0.551552 |
CircGradBasedCorrMaskRight (15) | 0.893206 |
CircGradBasedCorrMaskRight (16) | 0.183078 |
CircGradBasedCorrMaskRight (17) | 0.088451 |
CircGradBasedCorrMaskRight (18) | 0.517049 |
CircGradBasedCorrMaskRight (2) | 0.522025 |
CircGradBasedCorrMaskRight (3) | 0.555704 |
CircGradBasedCorrMaskRight (4) | 0.931590 |
CircGradBasedCorrMaskRight (5) | 0.170890 |
CircGradBasedCorrMaskRight (6) | 0.291661 |
CircGradBasedCorrMaskRight (7) | 0.345342 |
CircGradBasedCorrMaskRight (8) | 0.265732 |
CircGradBasedCorrMaskRight (9) | 0.318931 |
CircGradBasedCorrMaskRight | 0.517938 |
CircGradBasedCorrMaskRoundness | 0 |
CircGradBasedCorrMaskTop (1) | 0.565660 |
CircGradBasedCorrMaskTop (10) | 0.330170 |
CircGradBasedCorrMaskTop (11) | 0.318677 |
CircGradBasedCorrMaskTop (12) | 0.318879 |
CircGradBasedCorrMaskTop (13) | 0.325183 |
CircGradBasedCorrMaskTop (14) | 0.235853 |
CircGradBasedCorrMaskTop (15) | 0.708650 |
CircGradBasedCorrMaskTop (16) | 0.509313 |
CircGradBasedCorrMaskTop (17) | 0.524315 |
CircGradBasedCorrMaskTop (18) | 0.346749 |
CircGradBasedCorrMaskTop (2) | 0.565097 |
CircGradBasedCorrMaskTop (3) | 0.566209 |
CircGradBasedCorrMaskTop (4) | 0.255316 |
CircGradBasedCorrMaskTop (5) | 0.278574 |
CircGradBasedCorrMaskTop (6) | 0.525957 |
CircGradBasedCorrMaskTop (7) | 0.527425 |
CircGradBasedCorrMaskTop (8) | 0.337556 |
CircGradBasedCorrMaskTop (9) | 0.335461 |
CircGradBasedCorrMaskTop | 0.471571 |
CircGradBasedCorrMaskValue | 1.000000 |
CircGradBasedCorrMaskVersion | +2 |
CircGradBasedCorrMaskWhat | Mask/CircularGradient |
CircGradBasedCorrMoire | 0.000000 |
CircGradBasedCorrSaturation (34) | 0.940000 |
CircGradBasedCorrSaturation | 0.000000 |
CircGradBasedCorrShadows2012 | 0.000000 |
CircGradBasedCorrSharpness | 0.000000 |
CircGradBasedCorrTemperature (17) | 0.867650 |
CircGradBasedCorrTemperature | 0.000000 |
CircGradBasedCorrTint | 0.000000 |
CircGradBasedCorrWhat | Correction |
CircleOfConfusion | 0.019 mm |
Clarity2012 | +21 |
ColorComponents | 3 |
ColorNoiseReduction | 100 |
ColorNoiseReductionDetail | 50 |
ColorNoiseReductionSmoothness | 50 |
ColorSpace | sRGB |
ColorTemperature | 5824 |
ColorTransform | YCbCr |
Contrast2012 | +13 |
ConvertToGrayscale | False |
Copyright | Mikkel Nordbaek |
CopyrightNotice | Mikkel Nordbaek |
CreateDate (1) | 2016:10:14 07:11:10.98 |
CreateDate | 2016:10:14 07:11:10 |
Creator | Mikkel Nordbaek |
CreatorTool | Adobe Photoshop Lightroom 6.6.1 (Windows) |
CropAngle | -0.99 |
CropBottom | 0.975014 |
CropConstrainToWarp | 1 |
CropLeft | 0.022766 |
CropRight | 0.997938 |
CropTop | 0.024986 |
CustomRendered | Normal |
DateCreated (1) | 2016:10:14 |
DateCreated | 2016:10:14 07:11:10.98 |
DateTimeOriginal | 2016:10:14 07:11:10 |
DefringeGreenAmount | 0 |
DefringeGreenHueHi | 60 |
DefringeGreenHueLo | 40 |
DefringePurpleAmount | 0 |
DefringePurpleHueHi | 70 |
DefringePurpleHueLo | 30 |
Dehaze | 0 |
DOF | inf (1.32 m - inf) |
Exposure2012 | +0.37 |
ExposureCompensation | 0 |
ExposureMode | Manual |
ExposureProgram | Manual |
ExposureTime | 1.3 |
Firmware | 1.0.9 |
Flash | Off, Did not fire |
FlashCompensation | 0 |
FNumber | 8.0 |
FocalLength | 18.0 mm |
FocalLength35efl | 18.0 mm (35 mm equivalent: 28.3 mm) |
Format | image/jpeg |
FOV | 64.9 deg |
GradientBasedCorrActive | true |
GradientBasedCorrAmount | 1.000000 |
GradientBasedCorrBrightness | 0.000000 |
GradientBasedCorrClarity2012 (1) | 0.000000 |
GradientBasedCorrClarity2012 | 0.338240 |
GradientBasedCorrContrast2012 | 0.000000 |
GradientBasedCorrDefringe | 0.000000 |
GradientBasedCorrExposure2012 (1) | -0.105594 |
GradientBasedCorrExposure2012 | 0.058750 |
GradientBasedCorrHighlights2012 (1) | 0.000000 |
GradientBasedCorrHighlights2012 | 0.441180 |
GradientBasedCorrHue (1) | 251.000000 |
GradientBasedCorrHue | 0.000000 |
GradientBasedCorrLocalBlacks2012 | 0.000000 |
GradientBasedCorrLocalDehaze | 0.000000 |
GradientBasedCorrLocalWhites2012 | 0.000000 |
GradientBasedCorrLuminanceNoise (1) | 0.426470 |
GradientBasedCorrLuminanceNoise | 0.000000 |
GradientBasedCorrMaskCenterWeight | 0.000000 |
GradientBasedCorrMaskFlow | 1.000000 |
GradientBasedCorrMaskFullX (1) | 0.520216 |
GradientBasedCorrMaskFullX | 0.547966 |
GradientBasedCorrMaskFullY (1) | 0.010583 |
GradientBasedCorrMaskFullY | 0.968942 |
GradientBasedCorrMaskRadius (1) | 0.086939 |
GradientBasedCorrMaskRadius (10) | 0.015500 |
GradientBasedCorrMaskRadius (11) | 0.015132 |
GradientBasedCorrMaskRadius (12) | 0.051154 |
GradientBasedCorrMaskRadius (13) | 0.054293 |
GradientBasedCorrMaskRadius (14) | 0.050945 |
GradientBasedCorrMaskRadius (2) | 0.073559 |
GradientBasedCorrMaskRadius (3) | 0.076742 |
GradientBasedCorrMaskRadius (4) | 0.045534 |
GradientBasedCorrMaskRadius (5) | 0.007507 |
GradientBasedCorrMaskRadius (6) | 0.011583 |
GradientBasedCorrMaskRadius (7) | 0.013954 |
GradientBasedCorrMaskRadius (8) | 0.013919 |
GradientBasedCorrMaskRadius (9) | 0.011559 |
GradientBasedCorrMaskRadius | 0.051414 |
GradientBasedCorrMaskValue (1) | 1.000000 |
GradientBasedCorrMaskValue | 0.000000 |
GradientBasedCorrMaskWhat (13) | Mask/Gradient |
GradientBasedCorrMaskWhat | Mask/Paint |
GradientBasedCorrMaskZeroX (1) | 0.525348 |
GradientBasedCorrMaskZeroX | 0.546509 |
GradientBasedCorrMaskZeroY (1) | 0.536962 |
GradientBasedCorrMaskZeroY | 0.625288 |
GradientBasedCorrMoire | 0.000000 |
GradientBasedCorrSaturation (1) | 0.176470 |
GradientBasedCorrSaturation (2) | 0.970000 |
GradientBasedCorrSaturation (3) | 0.191180 |
GradientBasedCorrSaturation | 0.000000 |
GradientBasedCorrShadows2012 | 0.000000 |
GradientBasedCorrSharpness (1) | 0.000000 |
GradientBasedCorrSharpness | 0.500000 |
GradientBasedCorrTemperature (1) | -0.407060 |
GradientBasedCorrTemperature | 0.000000 |
GradientBasedCorrTint | 0.000000 |
GradientBasedCorrWhat | Correction |
GrainAmount | 0 |
GreenHue | 0 |
GreenSaturation | 0 |
HasCrop | True |
HasExtendedXMP | A96A4C2588F6B976783634BA4BC1C90C |
HasSettings | True |
Highlights2012 | -100 |
HueAdjustmentAqua | 0 |
HueAdjustmentBlue | 0 |
HueAdjustmentGreen | 0 |
HueAdjustmentMagenta | 0 |
HueAdjustmentOrange | 0 |
HueAdjustmentPurple | 0 |
HueAdjustmentRed | 0 |
HueAdjustmentYellow | 0 |
HyperfocalDistance | 2.12 m |
ImageHeight | 3370 |
ImageNumber | 0 |
ImageSize | 4998x3370 |
ImageWidth | 4998 |
ISO | 100 |
Lens | EF-S18-55mm f/3.5-5.6 III |
LensID (1) | 53 |
LensID | Canon EF-S 18-55mm f/3.5-5.6 III |
LensInfo | 18-55mm f/? |
LensManualDistortionAmount | 0 |
LensModel | EF-S18-55mm f/3.5-5.6 III |
LensProfileChromaticAberrationScale | 100 |
LensProfileDistortionScale | 100 |
LensProfileEnable | 1 |
LensProfileFilename | Canon EOS 50D (Canon EF-S 18-55mm f3.5-5.6 IS STM) - RAW.lcp |
LensProfileName | Adobe (Canon EF-S 18-55mm f/3.5-5.6 IS STM) |
LensProfileSetup | Custom |
LensProfileVignettingScale | 100 |
LightValue | 5.6 |
LuminanceAdjustmentAqua | 0 |
LuminanceAdjustmentBlue | -42 |
LuminanceAdjustmentGreen | +32 |
LuminanceAdjustmentMagenta | 0 |
LuminanceAdjustmentOrange | 0 |
LuminanceAdjustmentPurple | 0 |
LuminanceAdjustmentRed | 0 |
LuminanceAdjustmentYellow | 0 |
LuminanceNoiseReductionContrast | 0 |
LuminanceNoiseReductionDetail | 50 |
LuminanceSmoothing | 29 |
Make | Canon |
MaxApertureValue | 3.5 |
Megapixels | 16.8 |
MeteringMode | Multi-segment |
Model | Canon EOS 550D |
ModifyDate (1) | 2016:10:15 22:23:27+02:00 |
ModifyDate | 2016:10:15 22:23:27 |
PaintCorrectionActive | true |
PaintCorrectionAmount | 1.000000 |
PaintCorrectionBrightness | 0.000000 |
PaintCorrectionClarity2012 | 0.000000 |
PaintCorrectionContrast2012 | 0.000000 |
PaintCorrectionDefringe | 0.000000 |
PaintCorrectionExposure2012 | 0.117750 |
PaintCorrectionHighlights2012 | 0.000000 |
PaintCorrectionHue | 0.000000 |
PaintCorrectionLocalBlacks2012 | 0.000000 |
PaintCorrectionLocalDehaze | 0.000000 |
PaintCorrectionLocalWhites2012 | 0.000000 |
PaintCorrectionLuminanceNoise | 0.000000 |
PaintCorrectionMaskCenterWeight | 0.000000 |
PaintCorrectionMaskFlow | 0.871000 |
PaintCorrectionMaskRadius (1) | 0.033930 |
PaintCorrectionMaskRadius (2) | 0.033956 |
PaintCorrectionMaskRadius (3) | 0.033874 |
PaintCorrectionMaskRadius (4) | 0.020536 |
PaintCorrectionMaskRadius (5) | 0.020517 |
PaintCorrectionMaskRadius (6) | 0.020578 |
PaintCorrectionMaskRadius (7) | 0.020603 |
PaintCorrectionMaskRadius (8) | 0.020547 |
PaintCorrectionMaskRadius | 0.020596 |
PaintCorrectionMaskValue | 1.000000 |
PaintCorrectionMaskWhat | Mask/Paint |
PaintCorrectionMoire | 0.000000 |
PaintCorrectionSaturation | 0.000000 |
PaintCorrectionShadows2012 | 0.000000 |
PaintCorrectionSharpness | 0.000000 |
PaintCorrectionTemperature | 0.000000 |
PaintCorrectionTint | 0.000000 |
PaintCorrectionWhat | Correction |
ParametricDarks | -6 |
ParametricHighlights | +32 |
ParametricHighlightSplit | 75 |
ParametricLights | +10 |
ParametricMidtoneSplit | 50 |
ParametricShadows | 0 |
ParametricShadowSplit | 25 |
PerspectiveAspect | 0 |
PerspectiveHorizontal | 0 |
PerspectiveRotate | 0.0 |
PerspectiveScale | 100 |
PerspectiveUpright | 0 |
PerspectiveVertical | 0 |
PerspectiveX | 0.00 |
PerspectiveY | 0.00 |
PostCropVignetteAmount | -4 |
PostCropVignetteFeather | 50 |
PostCropVignetteHighlightContrast | 0 |
PostCropVignetteMidpoint | 50 |
PostCropVignetteRoundness | 0 |
PostCropVignetteStyle | 1 |
ProcessVersion | 6.7 |
ProfileDescription | sRGB IEC61966-2.1 |
RedHue | 0 |
RedSaturation | 0 |
Rights | Mikkel Nordbaek |
Saturation | 0 |
SaturationAdjustmentAqua | 0 |
SaturationAdjustmentBlue | +32 |
SaturationAdjustmentGreen | +54 |
SaturationAdjustmentMagenta | 0 |
SaturationAdjustmentOrange | +23 |
SaturationAdjustmentPurple | 0 |
SaturationAdjustmentRed | +18 |
SaturationAdjustmentYellow | -63 |
ScaleFactor35efl | 1.6 |
SceneCaptureType | Standard |
SerialNumber | 2933541025 |
Shadows2012 | +62 |
ShadowTint | 0 |
SharpenDetail | 25 |
SharpenEdgeMasking | 31 |
SharpenRadius | +1.0 |
Sharpness | 93 |
ShutterSpeed | 1.3 |
ShutterSpeedValue | 1.3 |
Software | Adobe Photoshop Lightroom 6.6.1 (Windows) |
SplitToningBalance | 0 |
SplitToningHighlightHue | 0 |
SplitToningHighlightSaturation | 0 |
SplitToningShadowHue | 0 |
SplitToningShadowSaturation | 0 |
Tint | -6 |
ToneCurve | 0, 0, 255, 255 |
ToneCurveBlue | 0, 0, 255, 255 |
ToneCurveGreen | 0, 0, 255, 255 |
ToneCurveName | Linear |
ToneCurveName2012 | Linear |
ToneCurvePV2012 | 0, 0, 255, 255 |
ToneCurvePV2012Blue | 0, 0, 255, 255 |
ToneCurvePV2012Green | 0, 0, 255, 255 |
ToneCurvePV2012Red | 0, 0, 255, 255 |
ToneCurveRed | 0, 0, 255, 255 |
ToneMapStrength | 0 |
Version | 9.6 |
Vibrance | +69 |
VignetteAmount | 0 |
WhiteBalance (1) | Custom |
WhiteBalance | Auto |
Whites2012 | +7 |