Felt | Verdi |
AlreadyApplied | True |
Aperture | 18.0 |
ApertureValue | 18.0 |
ApproximateFocusDistance | 4294967295 |
AutoLateralCA | 0 |
AutoWhiteVersion | 134348800 |
BitsPerSample | 8 |
Blacks2012 | 0 |
BlueHue | 0 |
BlueSaturation | 0 |
CameraProfile | Adobe Standard |
CFAPattern | [Red,Green][Green,Blue] |
CircleOfConfusion | 0.030 mm |
Clarity2012 | 0 |
ColorComponents | 3 |
ColorNoiseReduction | 25 |
ColorNoiseReductionDetail | 50 |
ColorNoiseReductionSmoothness | 50 |
ColorTemperature | 5550 |
ColorTransform | YCbCr |
Contrast | Normal |
Contrast2012 | +10 |
ConvertToGrayscale | False |
CreateDate (1) | 2016:05:30 07:45:21.63 |
CreateDate | 2016:05:30 07:45:21 |
CreatorTool | Adobe Photoshop Lightroom 6.4 (Windows) |
CropAngle | 5.35 |
CropBottom | 0.889 |
CropConstrainToWarp | 0 |
CropLeft | 0.115865 |
CropRight | 0.918014 |
CropTop | 0.003779 |
CustomRendered | Normal |
DateCreated (1) | 2016:05:30 |
DateCreated | 2016:05:30 07:45:21.63 |
DateTimeOriginal | 2016:05:30 07:45:21 |
DefringeGreenAmount | 0 |
DefringeGreenHueHi | 60 |
DefringeGreenHueLo | 40 |
DefringePurpleAmount | 0 |
DefringePurpleHueHi | 70 |
DefringePurpleHueLo | 30 |
Dehaze | 0 |
DigitalZoomRatio | 1 |
DOF | inf (0.36 m - inf) |
Exposure2012 | +0.43 |
ExposureCompensation | -1 |
ExposureMode | Auto |
ExposureProgram | Aperture-priority AE |
ExposureTime | 1/125 |
Flash | Off, Did not fire |
FNumber | 18.0 |
FocalLength | 14.0 mm |
FocalLength35efl | 14.0 mm (35 mm equivalent: 14.0 mm) |
FocalLengthIn35mmFormat | 14 mm |
Format | image/jpeg |
FOV | 104.3 deg |
GainControl | None |
GradientBasedCorrActive | true |
GradientBasedCorrAmount | 1.000000 |
GradientBasedCorrBrightness | 0.000000 |
GradientBasedCorrClarity2012 | 0.015150 |
GradientBasedCorrContrast2012 (1) | 0.818180 |
GradientBasedCorrContrast2012 | 0.166670 |
GradientBasedCorrDefringe | 0.000000 |
GradientBasedCorrExposure2012 (1) | 0.151500 |
GradientBasedCorrExposure2012 | 0.166750 |
GradientBasedCorrHighlights2012 (1) | -0.439390 |
GradientBasedCorrHighlights2012 | -0.409090 |
GradientBasedCorrHue | 240.000000 |
GradientBasedCorrLocalBlacks2012 | 0.000000 |
GradientBasedCorrLocalDehaze (1) | 0.075760 |
GradientBasedCorrLocalDehaze | 0.242420 |
GradientBasedCorrLocalWhites2012 (1) | 0.227270 |
GradientBasedCorrLocalWhites2012 | 0.378790 |
GradientBasedCorrLuminanceNoise | 0.000000 |
GradientBasedCorrMaskFullX (1) | 0.456546 |
GradientBasedCorrMaskFullX | 0.564649 |
GradientBasedCorrMaskFullY (1) | 0.620695 |
GradientBasedCorrMaskFullY | 0.717535 |
GradientBasedCorrMaskValue | 1.000000 |
GradientBasedCorrMaskWhat | Mask/Gradient |
GradientBasedCorrMaskZeroX (1) | 0.447834 |
GradientBasedCorrMaskZeroX | 0.570959 |
GradientBasedCorrMaskZeroY (1) | 0.750318 |
GradientBasedCorrMaskZeroY | 0.627197 |
GradientBasedCorrMoire | 0.000000 |
GradientBasedCorrSaturation (1) | 0.030300 |
GradientBasedCorrSaturation (3) | 0.151520 |
GradientBasedCorrSaturation | 0.000000 |
GradientBasedCorrShadows2012 (1) | -0.196970 |
GradientBasedCorrShadows2012 | 0.575760 |
GradientBasedCorrSharpness | 0.000000 |
GradientBasedCorrTemperature (1) | 0.075760 |
GradientBasedCorrTemperature | 0.106060 |
GradientBasedCorrTint | 0.000000 |
GradientBasedCorrWhat | Correction |
GrainAmount | 0 |
GreenHue | 0 |
GreenSaturation | 0 |
HasCrop | True |
HasSettings | True |
Highlights2012 | -7 |
HueAdjustmentAqua | 0 |
HueAdjustmentBlue | 0 |
HueAdjustmentGreen | 0 |
HueAdjustmentMagenta | 0 |
HueAdjustmentOrange | 0 |
HueAdjustmentPurple | 0 |
HueAdjustmentRed | 0 |
HueAdjustmentYellow | 0 |
HyperfocalDistance | 0.36 m |
ImageHeight | 3090 |
ImageNumber | 3233 |
ImageSize | 5136x3090 |
ImageWidth | 5136 |
ISO | 100 |
Lens | 14.0 mm f/2.8 |
LensID (1) | 74 |
LensID | Samyang AE 14mm f/2.8 ED AS IF UMC |
LensInfo | 14mm f/2.8-1.4 |
LensManualDistortionAmount | 0 |
LensModel | 14.0 mm f/2.8 |
LensProfileChromaticAberrationScale | 100 |
LensProfileDistortionScale | 100 |
LensProfileEnable | 1 |
LensProfileFilename | NIKON CORPORATION (Samyang 14mm f2.8 ED AS IF UMC) - RAW.lcp |
LensProfileName | Adobe (Samyang 14mm f/2.8 ED AS IF UMC, NIKON CORPORATION) |
LensProfileSetup | Custom |
LensProfileVignettingScale | 100 |
LightSource | Unknown |
LightValue | 15.3 |
LuminanceAdjustmentAqua | 0 |
LuminanceAdjustmentBlue | 0 |
LuminanceAdjustmentGreen | 0 |
LuminanceAdjustmentMagenta | 0 |
LuminanceAdjustmentOrange | 0 |
LuminanceAdjustmentPurple | 0 |
LuminanceAdjustmentRed | 0 |
LuminanceAdjustmentYellow | 0 |
LuminanceNoiseReductionContrast | 0 |
LuminanceNoiseReductionDetail | 50 |
LuminanceSmoothing | 29 |
Make | NIKON CORPORATION |
MaxApertureValue | 2.8 |
Megapixels | 15.9 |
MeteringMode | Multi-segment |
Model | NIKON D750 |
ModifyDate (1) | 2016:05:30 09:32:30+02:00 |
ModifyDate | 2016:05:30 09:32:30 |
PaintCorrectionActive | true |
PaintCorrectionAmount | 1.000000 |
PaintCorrectionBrightness | 0.000000 |
PaintCorrectionClarity2012 | 0.015150 |
PaintCorrectionContrast2012 | 0.166670 |
PaintCorrectionDefringe | 0.000000 |
PaintCorrectionExposure2012 | 0.257500 |
PaintCorrectionHighlights2012 | 0.570610 |
PaintCorrectionHue | 240.000000 |
PaintCorrectionLocalBlacks2012 | 0.000000 |
PaintCorrectionLocalDehaze | 0.000000 |
PaintCorrectionLocalWhites2012 | 0.000000 |
PaintCorrectionLuminanceNoise | 0.000000 |
PaintCorrectionMaskCenterWeight | 0.000000 |
PaintCorrectionMaskFlow (1) | 0.490000 |
PaintCorrectionMaskFlow (12) | 0.316000 |
PaintCorrectionMaskFlow | 0.163000 |
PaintCorrectionMaskRadius (1) | 0.111353 |
PaintCorrectionMaskRadius (10) | 0.115964 |
PaintCorrectionMaskRadius (11) | 0.114069 |
PaintCorrectionMaskRadius (12) | 0.116076 |
PaintCorrectionMaskRadius (13) | 0.114958 |
PaintCorrectionMaskRadius (14) | 0.115682 |
PaintCorrectionMaskRadius (15) | 0.115681 |
PaintCorrectionMaskRadius (16) | 0.115939 |
PaintCorrectionMaskRadius (17) | 0.116233 |
PaintCorrectionMaskRadius (18) | 0.115998 |
PaintCorrectionMaskRadius (19) | 0.105897 |
PaintCorrectionMaskRadius (2) | 0.110705 |
PaintCorrectionMaskRadius (20) | 0.105633 |
PaintCorrectionMaskRadius (21) | 0.104036 |
PaintCorrectionMaskRadius (22) | 0.104911 |
PaintCorrectionMaskRadius (23) | 0.109840 |
PaintCorrectionMaskRadius (24) | 0.112374 |
PaintCorrectionMaskRadius (25) | 0.086388 |
PaintCorrectionMaskRadius (26) | 0.086762 |
PaintCorrectionMaskRadius (27) | 0.113305 |
PaintCorrectionMaskRadius (28) | 0.113024 |
PaintCorrectionMaskRadius (29) | 0.118133 |
PaintCorrectionMaskRadius (3) | 0.112352 |
PaintCorrectionMaskRadius (30) | 0.117282 |
PaintCorrectionMaskRadius (31) | 0.121010 |
PaintCorrectionMaskRadius (32) | 0.124534 |
PaintCorrectionMaskRadius (33) | 0.092238 |
PaintCorrectionMaskRadius (34) | 0.079073 |
PaintCorrectionMaskRadius (35) | 0.076245 |
PaintCorrectionMaskRadius (36) | 0.073492 |
PaintCorrectionMaskRadius (37) | 0.074834 |
PaintCorrectionMaskRadius (38) | 0.073494 |
PaintCorrectionMaskRadius (39) | 0.092028 |
PaintCorrectionMaskRadius (4) | 0.109400 |
PaintCorrectionMaskRadius (40) | 0.091654 |
PaintCorrectionMaskRadius (41) | 0.103996 |
PaintCorrectionMaskRadius (42) | 0.108319 |
PaintCorrectionMaskRadius (43) | 0.104045 |
PaintCorrectionMaskRadius (44) | 0.109623 |
PaintCorrectionMaskRadius (45) | 0.103203 |
PaintCorrectionMaskRadius (46) | 0.104623 |
PaintCorrectionMaskRadius (47) | 0.104558 |
PaintCorrectionMaskRadius (48) | 0.103912 |
PaintCorrectionMaskRadius (49) | 0.104156 |
PaintCorrectionMaskRadius (5) | 0.111517 |
PaintCorrectionMaskRadius (50) | 0.104868 |
PaintCorrectionMaskRadius (51) | 0.104103 |
PaintCorrectionMaskRadius (52) | 0.105866 |
PaintCorrectionMaskRadius (53) | 0.103927 |
PaintCorrectionMaskRadius (54) | 0.104880 |
PaintCorrectionMaskRadius (55) | 0.105641 |
PaintCorrectionMaskRadius (56) | 0.103499 |
PaintCorrectionMaskRadius (57) | 0.109382 |
PaintCorrectionMaskRadius (58) | 0.113772 |
PaintCorrectionMaskRadius (59) | 0.122106 |
PaintCorrectionMaskRadius (6) | 0.111381 |
PaintCorrectionMaskRadius (7) | 0.114663 |
PaintCorrectionMaskRadius (8) | 0.119608 |
PaintCorrectionMaskRadius (9) | 0.118447 |
PaintCorrectionMaskRadius | 0.123317 |
PaintCorrectionMaskValue | 1.000000 |
PaintCorrectionMaskWhat | Mask/Paint |
PaintCorrectionMoire | 0.000000 |
PaintCorrectionSaturation (1) | 0.030300 |
PaintCorrectionSaturation | 0.000000 |
PaintCorrectionShadows2012 | 0.000000 |
PaintCorrectionSharpness | 0.000000 |
PaintCorrectionTemperature | 0.530300 |
PaintCorrectionTint | 0.000000 |
PaintCorrectionWhat | Correction |
ParametricDarks | -4 |
ParametricHighlights | 0 |
ParametricHighlightSplit | 75 |
ParametricLights | -26 |
ParametricMidtoneSplit | 50 |
ParametricShadows | -72 |
ParametricShadowSplit | 25 |
PerspectiveAspect | 0 |
PerspectiveHorizontal | 0 |
PerspectiveRotate | 0.0 |
PerspectiveScale | 100 |
PerspectiveUpright | 0 |
PerspectiveVertical | 0 |
PostCropVignetteAmount | 0 |
ProcessVersion | 6.7 |
ProfileDescription | sRGB IEC61966-2.1 |
RedHue | 0 |
RedSaturation | 0 |
Saturation (1) | -1 |
Saturation | Normal |
SaturationAdjustmentAqua | -100 |
SaturationAdjustmentBlue | 0 |
SaturationAdjustmentGreen | -100 |
SaturationAdjustmentMagenta | 0 |
SaturationAdjustmentOrange | 0 |
SaturationAdjustmentPurple | 0 |
SaturationAdjustmentRed | 0 |
SaturationAdjustmentYellow | 0 |
ScaleFactor35efl | 1.0 |
SceneCaptureType | Standard |
SceneType | Directly photographed |
SensingMethod | One-chip color area |
SensitivityType | Recommended Exposure Index |
SerialNumber | 6084305 |
Shadows2012 | +64 |
ShadowTint | 0 |
SharpenDetail | 25 |
SharpenEdgeMasking | 0 |
SharpenRadius | +1.0 |
Sharpness (1) | 65 |
Sharpness | Normal |
ShutterSpeed | 1/125 |
ShutterSpeedValue | 1/125 |
Software | Adobe Photoshop Lightroom 6.4 (Windows) |
SplitToningBalance | 0 |
SplitToningHighlightHue | 0 |
SplitToningHighlightSaturation | 0 |
SplitToningShadowHue | 0 |
SplitToningShadowSaturation | 0 |
SubjectDistanceRange | Unknown |
Tint | +10 |
ToneCurve | 0, 0, 255, 255 |
ToneCurveBlue | 0, 0, 255, 255 |
ToneCurveGreen | 0, 0, 255, 255 |
ToneCurveName | Linear |
ToneCurveName2012 | Linear |
ToneCurvePV2012 | 0, 0, 255, 255 |
ToneCurvePV2012Blue | 0, 0, 255, 255 |
ToneCurvePV2012Green | 0, 0, 255, 255 |
ToneCurvePV2012Red | 0, 0, 255, 255 |
ToneCurveRed | 0, 0, 255, 255 |
ToneMapStrength | 0 |
Version | 9.4 |
Vibrance | 0 |
VignetteAmount | 0 |
WhiteBalance (1) | As Shot |
WhiteBalance | Auto |
Whites2012 | 0 |