Felt | Verdi |
AlreadyApplied | True |
Aperture | 14.0 |
ApertureValue | 14.0 |
ApproximateFocusDistance | 4294967295 |
AutoLateralCA | 0 |
AutoWhiteVersion | 134348800 |
BitsPerSample | 8 |
Blacks2012 | -57 |
BlueHue | 0 |
BlueSaturation | 0 |
CameraProfile | Adobe Standard |
CFAPattern | [Red,Green][Green,Blue] |
CircleOfConfusion | 0.030 mm |
Clarity2012 | +26 |
ColorComponents | 3 |
ColorNoiseReduction | 25 |
ColorNoiseReductionDetail | 50 |
ColorNoiseReductionSmoothness | 50 |
ColorTemperature | 6048 |
ColorTransform | YCbCr |
Contrast | Normal |
Contrast2012 | +100 |
ConvertToGrayscale | False |
CreateDate (1) | 2016:03:15 18:21:01.97 |
CreateDate | 2016:03:15 18:21:01 |
CreatorTool | Adobe Photoshop Lightroom 6.4 (Windows) |
CropAngle | 1.098 |
CropBottom | 0.916193 |
CropConstrainToWarp | 1 |
CropLeft | 0.031083 |
CropRight | 0.95841 |
CropTop | 0.076465 |
CustomRendered | Normal |
DateCreated (1) | 2016:03:15 |
DateCreated | 2016:03:15 18:21:01.97 |
DateTimeOriginal | 2016:03:15 18:21:01 |
DefringeGreenAmount | 0 |
DefringeGreenHueHi | 60 |
DefringeGreenHueLo | 40 |
DefringePurpleAmount | 0 |
DefringePurpleHueHi | 70 |
DefringePurpleHueLo | 30 |
Dehaze | +33 |
DigitalZoomRatio | 1 |
DOF | inf (0.47 m - inf) |
Exposure2012 | +1.50 |
ExposureCompensation | -3 |
ExposureMode | Auto |
ExposureProgram | Aperture-priority AE |
ExposureTime | 1/20 |
Flash | Off, Did not fire |
FNumber | 14.0 |
FocalLength | 14.0 mm |
FocalLength35efl | 14.0 mm (35 mm equivalent: 14.0 mm) |
FocalLengthIn35mmFormat | 14 mm |
Format | image/jpeg |
FOV | 104.3 deg |
GainControl | None |
GradientBasedCorrActive | true |
GradientBasedCorrAmount | 1.000000 |
GradientBasedCorrBrightness | 0.000000 |
GradientBasedCorrClarity2012 (3) | 0.057470 |
GradientBasedCorrClarity2012 | 0.214290 |
GradientBasedCorrContrast2012 (1) | 0.357140 |
GradientBasedCorrContrast2012 | 0.126440 |
GradientBasedCorrDefringe | 0.000000 |
GradientBasedCorrExposure2012 (1) | 0.309500 |
GradientBasedCorrExposure2012 | 0.149500 |
GradientBasedCorrHighlights2012 (1) | -0.071430 |
GradientBasedCorrHighlights2012 (2) | 0.000000 |
GradientBasedCorrHighlights2012 | 0.452380 |
GradientBasedCorrHue | 3.000000 |
GradientBasedCorrLocalBlacks2012 | 0.000000 |
GradientBasedCorrLocalDehaze (2) | 0.428570 |
GradientBasedCorrLocalDehaze | 0.404760 |
GradientBasedCorrLocalWhites2012 | 0.000000 |
GradientBasedCorrLuminanceNoise | 0.000000 |
GradientBasedCorrMaskFullX (1) | 0.504355 |
GradientBasedCorrMaskFullX (2) | 0.619160 |
GradientBasedCorrMaskFullX (3) | 0.399557 |
GradientBasedCorrMaskFullX | 0.489672 |
GradientBasedCorrMaskFullY (1) | 0.333480 |
GradientBasedCorrMaskFullY (2) | 0.476966 |
GradientBasedCorrMaskFullY (3) | 0.471336 |
GradientBasedCorrMaskFullY | 0.783391 |
GradientBasedCorrMaskValue | 1.000000 |
GradientBasedCorrMaskWhat | Mask/Gradient |
GradientBasedCorrMaskZeroX (1) | 0.504392 |
GradientBasedCorrMaskZeroX (2) | 0.587667 |
GradientBasedCorrMaskZeroX (3) | 0.432810 |
GradientBasedCorrMaskZeroX | 0.491426 |
GradientBasedCorrMaskZeroY (1) | 0.396443 |
GradientBasedCorrMaskZeroY (2) | 0.478008 |
GradientBasedCorrMaskZeroY (3) | 0.473496 |
GradientBasedCorrMaskZeroY | 0.563907 |
GradientBasedCorrMoire | 0.000000 |
GradientBasedCorrSaturation (1) | 0.238100 |
GradientBasedCorrSaturation (3) | 0.190480 |
GradientBasedCorrSaturation (5) | 0.119050 |
GradientBasedCorrSaturation (7) | -0.476190 |
GradientBasedCorrSaturation | 0.010000 |
GradientBasedCorrShadows2012 (1) | 0.000000 |
GradientBasedCorrShadows2012 (3) | -0.011490 |
GradientBasedCorrShadows2012 | 0.452380 |
GradientBasedCorrSharpness | 0.000000 |
GradientBasedCorrTemperature (2) | 0.047620 |
GradientBasedCorrTemperature | 0.214290 |
GradientBasedCorrTint | 0.000000 |
GradientBasedCorrWhat | Correction |
GrainAmount | 0 |
GreenHue | 0 |
GreenSaturation | 0 |
HasCrop | True |
HasSettings | True |
Highlights2012 | -100 |
HueAdjustmentAqua | 0 |
HueAdjustmentBlue | 0 |
HueAdjustmentGreen | 0 |
HueAdjustmentMagenta | 0 |
HueAdjustmentOrange | 0 |
HueAdjustmentPurple | 0 |
HueAdjustmentRed | 0 |
HueAdjustmentYellow | 0 |
HyperfocalDistance | 0.47 m |
ImageHeight | 3265 |
ImageNumber | 2083 |
ImageSize | 5642x3265 |
ImageWidth | 5642 |
IsMergedHDR | True |
ISO | 100 |
Lens | 14.0 mm f/2.8 |
LensID (1) | 74 |
LensID | Samyang AE 14mm f/2.8 ED AS IF UMC |
LensInfo | 14mm f/2.8-1.4 |
LensManualDistortionAmount | 0 |
LensModel | 14.0 mm f/2.8 |
LensProfileChromaticAberrationScale | 100 |
LensProfileDistortionScale | 100 |
LensProfileEnable | 1 |
LensProfileFilename | NIKON CORPORATION (Samyang 14mm f2.8 ED AS IF UMC) - RAW.lcp |
LensProfileName | Adobe (Samyang 14mm f/2.8 ED AS IF UMC, NIKON CORPORATION) |
LensProfileSetup | Custom |
LensProfileVignettingScale | 100 |
LightSource | Unknown |
LightValue | 11.9 |
LuminanceAdjustmentAqua | 0 |
LuminanceAdjustmentBlue | 0 |
LuminanceAdjustmentGreen | 0 |
LuminanceAdjustmentMagenta | 0 |
LuminanceAdjustmentOrange | 0 |
LuminanceAdjustmentPurple | 0 |
LuminanceAdjustmentRed | 0 |
LuminanceAdjustmentYellow | 0 |
LuminanceNoiseReductionContrast | 0 |
LuminanceNoiseReductionDetail | 50 |
LuminanceSmoothing | 37 |
Make | NIKON CORPORATION |
MaxApertureValue | 2.8 |
Megapixels | 18.4 |
MeteringMode | Multi-segment |
Model | NIKON D750 |
ModifyDate (1) | 2016:03:16 11:23:02+01:00 |
ModifyDate | 2016:03:16 11:23:02 |
PaintCorrectionActive | true |
PaintCorrectionAmount | 1.000000 |
PaintCorrectionBrightness | 0.000000 |
PaintCorrectionClarity2012 | 0.057470 |
PaintCorrectionContrast2012 | 0.690480 |
PaintCorrectionDefringe | 0.000000 |
PaintCorrectionExposure2012 | -0.047500 |
PaintCorrectionHighlights2012 | -0.142860 |
PaintCorrectionHue | 3.000000 |
PaintCorrectionLocalBlacks2012 | 0.000000 |
PaintCorrectionLocalDehaze | 0.166670 |
PaintCorrectionLocalWhites2012 | 0.000000 |
PaintCorrectionLuminanceNoise | 0.000000 |
PaintCorrectionMaskCenterWeight | 0.000000 |
PaintCorrectionMaskFlow | 0.433000 |
PaintCorrectionMaskRadius (1) | 0.060612 |
PaintCorrectionMaskRadius (2) | 0.060300 |
PaintCorrectionMaskRadius | 0.059984 |
PaintCorrectionMaskValue | 0.809000 |
PaintCorrectionMaskWhat | Mask/Paint |
PaintCorrectionMoire | 0.000000 |
PaintCorrectionSaturation (1) | 0.452380 |
PaintCorrectionSaturation | 0.010000 |
PaintCorrectionShadows2012 | -0.011490 |
PaintCorrectionSharpness | 0.000000 |
PaintCorrectionTemperature | 0.380950 |
PaintCorrectionTint | 0.000000 |
PaintCorrectionWhat | Correction |
ParametricDarks | -3 |
ParametricHighlights | -75 |
ParametricHighlightSplit | 75 |
ParametricLights | -46 |
ParametricMidtoneSplit | 50 |
ParametricShadows | -20 |
ParametricShadowSplit | 25 |
PerspectiveAspect | 0 |
PerspectiveHorizontal | 0 |
PerspectiveRotate | 0.0 |
PerspectiveScale | 100 |
PerspectiveUpright | 0 |
PerspectiveVertical | 0 |
PostCropVignetteAmount | 0 |
ProcessVersion | 6.7 |
ProfileDescription | sRGB IEC61966-2.1 |
RedHue | 0 |
RedSaturation | 0 |
Saturation (1) | -17 |
Saturation | Normal |
SaturationAdjustmentAqua | 0 |
SaturationAdjustmentBlue | 0 |
SaturationAdjustmentGreen | 0 |
SaturationAdjustmentMagenta | 0 |
SaturationAdjustmentOrange | 0 |
SaturationAdjustmentPurple | 0 |
SaturationAdjustmentRed | 0 |
SaturationAdjustmentYellow | 0 |
ScaleFactor35efl | 1.0 |
SceneCaptureType | Standard |
SceneType | Directly photographed |
SensingMethod | One-chip color area |
SensitivityType | Recommended Exposure Index |
SerialNumber | 6084305 |
Shadows2012 | +50 |
ShadowTint | 0 |
SharpenDetail | 25 |
SharpenEdgeMasking | 0 |
SharpenRadius | +1.0 |
Sharpness (1) | 84 |
Sharpness | Normal |
ShutterSpeed | 1/20 |
ShutterSpeedValue | 1/20 |
Software | Adobe Photoshop Lightroom 6.4 (Windows) |
SplitToningBalance | 0 |
SplitToningHighlightHue | 0 |
SplitToningHighlightSaturation | 0 |
SplitToningShadowHue | 0 |
SplitToningShadowSaturation | 0 |
SubjectDistanceRange | Unknown |
Tint | -1 |
ToneCurve | 0, 0, 255, 255 |
ToneCurveBlue | 0, 0, 255, 255 |
ToneCurveGreen | 0, 0, 255, 255 |
ToneCurveName | Linear |
ToneCurveName2012 | Linear |
ToneCurvePV2012 | 0, 0, 255, 255 |
ToneCurvePV2012Blue | 0, 0, 255, 255 |
ToneCurvePV2012Green | 0, 0, 255, 255 |
ToneCurvePV2012Red | 0, 0, 255, 255 |
ToneCurveRed | 0, 0, 255, 255 |
ToneMapStrength | 0 |
Version | 9.4 |
Vibrance | +14 |
VignetteAmount | 0 |
WhiteBalance (1) | Custom |
WhiteBalance | Auto |
Whites2012 | +15 |