Felt | Verdi |
AlreadyApplied | True |
Aperture | 18.0 |
ApertureValue | 18.0 |
ApproximateFocusDistance | 4294967295 |
AutoLateralCA | 0 |
AutoWhiteVersion | 134348800 |
BitsPerSample | 8 |
Blacks2012 | 0 |
BlueHue | 0 |
BlueSaturation | 0 |
CameraProfile | Adobe Standard |
CFAPattern | [Red,Green][Green,Blue] |
CircGradBasedCorrActive | true |
CircGradBasedCorrAmount | 1.000000 |
CircGradBasedCorrBrightness | 0.000000 |
CircGradBasedCorrClarity2012 | 0.057470 |
CircGradBasedCorrContrast2012 | 0.357140 |
CircGradBasedCorrDefringe | 0.000000 |
CircGradBasedCorrExposure2012 | 0.166750 |
CircGradBasedCorrHighlights2012 | 0.000000 |
CircGradBasedCorrHue | 3.000000 |
CircGradBasedCorrLocalBlacks2012 | 0.023810 |
CircGradBasedCorrLocalDehaze | 0.285710 |
CircGradBasedCorrLocalWhites2012 | 0.071430 |
CircGradBasedCorrLuminanceNoise | 0.000000 |
CircGradBasedCorrMaskAngle | 0.000000 |
CircGradBasedCorrMaskBottom | 0.524510 |
CircGradBasedCorrMaskFeather | +50 |
CircGradBasedCorrMaskFlipped | false |
CircGradBasedCorrMaskLeft | 0.380524 |
CircGradBasedCorrMaskMidpoint | +50 |
CircGradBasedCorrMaskRight | 0.596563 |
CircGradBasedCorrMaskRoundness | 0 |
CircGradBasedCorrMaskTop | 0.276961 |
CircGradBasedCorrMaskValue | 1.000000 |
CircGradBasedCorrMaskVersion | +2 |
CircGradBasedCorrMaskWhat | Mask/CircularGradient |
CircGradBasedCorrMoire | 0.000000 |
CircGradBasedCorrSaturation (1) | 0.000000 |
CircGradBasedCorrSaturation | 0.010000 |
CircGradBasedCorrShadows2012 | 0.500000 |
CircGradBasedCorrSharpness | 0.000000 |
CircGradBasedCorrTemperature | 0.000000 |
CircGradBasedCorrTint | 0.000000 |
CircGradBasedCorrWhat | Correction |
CircleOfConfusion | 0.030 mm |
Clarity2012 | 0 |
ColorComponents | 3 |
ColorNoiseReduction | 25 |
ColorNoiseReductionDetail | 50 |
ColorNoiseReductionSmoothness | 50 |
ColorTemperature | 5214 |
ColorTransform | YCbCr |
Contrast | Normal |
Contrast2012 | +55 |
ConvertToGrayscale | False |
CreateDate (1) | 2016:03:03 16:40:53.34 |
CreateDate | 2016:03:03 16:40:53 |
CreatorTool | Adobe Photoshop Lightroom 6.4 (Windows) |
CropAngle | -1.098 |
CropBottom | 0.97209 |
CropConstrainToWarp | 0 |
CropLeft | 0.007736 |
CropRight | 0.992264 |
CropTop | 0.02791 |
CustomRendered | Normal |
DateCreated (1) | 2016:03:03 |
DateCreated | 2016:03:03 16:40:53.34 |
DateTimeOriginal | 2016:03:03 16:40:53 |
DefringeGreenAmount | 0 |
DefringeGreenHueHi | 60 |
DefringeGreenHueLo | 40 |
DefringePurpleAmount | 0 |
DefringePurpleHueHi | 70 |
DefringePurpleHueLo | 30 |
Dehaze | +2 |
DigitalZoomRatio | 1 |
DOF | inf (0.36 m - inf) |
Exposure2012 | -0.60 |
ExposureCompensation | 0 |
ExposureMode | Auto |
ExposureProgram | Aperture-priority AE |
ExposureTime | 1/20 |
Flash | Off, Did not fire |
FNumber | 18.0 |
FocalLength | 14.0 mm |
FocalLength35efl | 14.0 mm (35 mm equivalent: 14.0 mm) |
FocalLengthIn35mmFormat | 14 mm |
Format | image/jpeg |
FOV | 104.3 deg |
GainControl | None |
GradientBasedCorrActive | true |
GradientBasedCorrAmount | 1.000000 |
GradientBasedCorrBrightness | 0.000000 |
GradientBasedCorrClarity2012 (1) | 0.404760 |
GradientBasedCorrClarity2012 (2) | 0.238100 |
GradientBasedCorrClarity2012 (3) | 0.142860 |
GradientBasedCorrClarity2012 | 0.057470 |
GradientBasedCorrContrast2012 (1) | 0.523810 |
GradientBasedCorrContrast2012 (2) | 0.428570 |
GradientBasedCorrContrast2012 (4) | 0.357140 |
GradientBasedCorrContrast2012 | 0.000000 |
GradientBasedCorrDefringe | 0.000000 |
GradientBasedCorrExposure2012 (1) | 0.452500 |
GradientBasedCorrExposure2012 (3) | 0.214250 |
GradientBasedCorrExposure2012 (4) | 0.166750 |
GradientBasedCorrExposure2012 | 0.103500 |
GradientBasedCorrHighlights2012 (1) | 0.309520 |
GradientBasedCorrHighlights2012 | 0.000000 |
GradientBasedCorrHue | 3.000000 |
GradientBasedCorrLocalBlacks2012 | 0.000000 |
GradientBasedCorrLocalDehaze (1) | 0.119050 |
GradientBasedCorrLocalDehaze (2) | 0.428570 |
GradientBasedCorrLocalDehaze (3) | 0.071430 |
GradientBasedCorrLocalDehaze (4) | 0.000000 |
GradientBasedCorrLocalDehaze | 0.261900 |
GradientBasedCorrLocalWhites2012 (2) | 0.309520 |
GradientBasedCorrLocalWhites2012 | 0.000000 |
GradientBasedCorrLuminanceNoise | 0.000000 |
GradientBasedCorrMaskFullX (1) | 0.486088 |
GradientBasedCorrMaskFullX (2) | 0.650573 |
GradientBasedCorrMaskFullX (3) | 0.493453 |
GradientBasedCorrMaskFullX (4) | 0.351882 |
GradientBasedCorrMaskFullX | 0.036135 |
GradientBasedCorrMaskFullY (1) | 0.246324 |
GradientBasedCorrMaskFullY (2) | 0.408088 |
GradientBasedCorrMaskFullY (3) | 0.519608 |
GradientBasedCorrMaskFullY (4) | 0.421569 |
GradientBasedCorrMaskFullY | 0.912264 |
GradientBasedCorrMaskValue | 1.000000 |
GradientBasedCorrMaskWhat | Mask/Gradient |
GradientBasedCorrMaskZeroX (1) | 0.486907 |
GradientBasedCorrMaskZeroX (2) | 0.549100 |
GradientBasedCorrMaskZeroX (3) | 0.492278 |
GradientBasedCorrMaskZeroX (4) | 0.418985 |
GradientBasedCorrMaskZeroX | 0.367902 |
GradientBasedCorrMaskZeroY (1) | 0.330882 |
GradientBasedCorrMaskZeroY (2) | 0.412990 |
GradientBasedCorrMaskZeroY (3) | 0.463294 |
GradientBasedCorrMaskZeroY (4) | 0.416667 |
GradientBasedCorrMaskZeroY | 0.540055 |
GradientBasedCorrMoire | 0.000000 |
GradientBasedCorrSaturation (3) | 0.000000 |
GradientBasedCorrSaturation (7) | 0.333330 |
GradientBasedCorrSaturation (9) | -0.761900 |
GradientBasedCorrSaturation | 0.010000 |
GradientBasedCorrShadows2012 (1) | 0.690480 |
GradientBasedCorrShadows2012 (2) | 0.404760 |
GradientBasedCorrShadows2012 (3) | 0.428570 |
GradientBasedCorrShadows2012 | 0.000000 |
GradientBasedCorrSharpness | 0.000000 |
GradientBasedCorrTemperature (1) | -0.057470 |
GradientBasedCorrTemperature | 0.142860 |
GradientBasedCorrTint | 0.000000 |
GradientBasedCorrWhat | Correction |
GrainAmount | 0 |
GreenHue | 0 |
GreenSaturation | 0 |
HasCrop | True |
HasSettings | True |
Highlights2012 | -57 |
HueAdjustmentAqua | 0 |
HueAdjustmentBlue | 0 |
HueAdjustmentGreen | 0 |
HueAdjustmentMagenta | 0 |
HueAdjustmentOrange | 0 |
HueAdjustmentPurple | 0 |
HueAdjustmentRed | 0 |
HueAdjustmentYellow | 0 |
HyperfocalDistance | 0.36 m |
ImageHeight | 3905 |
ImageNumber | 1805 |
ImageSize | 5849x3905 |
ImageWidth | 5849 |
ISO | 100 |
Lens | 14.0 mm f/2.8 |
LensID (1) | 74 |
LensID | Samyang AE 14mm f/2.8 ED AS IF UMC |
LensInfo | 14mm f/2.8-1.4 |
LensManualDistortionAmount | 0 |
LensModel | 14.0 mm f/2.8 |
LensProfileChromaticAberrationScale | 100 |
LensProfileDistortionScale | 100 |
LensProfileEnable | 1 |
LensProfileFilename | NIKON CORPORATION (Samyang 14mm f2.8 ED AS IF UMC) - RAW.lcp |
LensProfileName | Adobe (Samyang 14mm f/2.8 ED AS IF UMC, NIKON CORPORATION) |
LensProfileSetup | Custom |
LensProfileVignettingScale | 100 |
LightSource | Unknown |
LightValue | 12.7 |
LuminanceAdjustmentAqua | 0 |
LuminanceAdjustmentBlue | 0 |
LuminanceAdjustmentGreen | 0 |
LuminanceAdjustmentMagenta | 0 |
LuminanceAdjustmentOrange | 0 |
LuminanceAdjustmentPurple | 0 |
LuminanceAdjustmentRed | 0 |
LuminanceAdjustmentYellow | 0 |
LuminanceNoiseReductionContrast | 0 |
LuminanceNoiseReductionDetail | 50 |
LuminanceSmoothing | 36 |
Make | NIKON CORPORATION |
MaxApertureValue | 2.8 |
Megapixels | 22.8 |
MeteringMode | Multi-segment |
Model | NIKON D750 |
ModifyDate (1) | 2016:03:04 09:25:31+01:00 |
ModifyDate | 2016:03:04 09:25:31 |
PaintCorrectionActive | true |
PaintCorrectionAmount | 1.000000 |
PaintCorrectionBrightness | 0.000000 |
PaintCorrectionClarity2012 | 0.057470 |
PaintCorrectionContrast2012 (1) | 0.126440 |
PaintCorrectionContrast2012 | 0.000000 |
PaintCorrectionDefringe | 0.000000 |
PaintCorrectionExposure2012 (1) | 0.586250 |
PaintCorrectionExposure2012 | -0.071500 |
PaintCorrectionHighlights2012 (1) | -0.471260 |
PaintCorrectionHighlights2012 | -0.238100 |
PaintCorrectionHue | 3.000000 |
PaintCorrectionLocalBlacks2012 | 0.000000 |
PaintCorrectionLocalDehaze | 0.000000 |
PaintCorrectionLocalWhites2012 (1) | 0.095240 |
PaintCorrectionLocalWhites2012 | -0.448280 |
PaintCorrectionLuminanceNoise | 0.000000 |
PaintCorrectionMaskCenterWeight | 0.000000 |
PaintCorrectionMaskFlow (1) | 0.488000 |
PaintCorrectionMaskFlow (2) | 0.711000 |
PaintCorrectionMaskFlow | 0.609000 |
PaintCorrectionMaskRadius (1) | 0.055298 |
PaintCorrectionMaskRadius (3) | 0.021665 |
PaintCorrectionMaskRadius (4) | 0.021747 |
PaintCorrectionMaskRadius (5) | 0.021617 |
PaintCorrectionMaskRadius | 0.021696 |
PaintCorrectionMaskValue (1) | 0.517000 |
PaintCorrectionMaskValue | 0.809000 |
PaintCorrectionMaskWhat | Mask/Paint |
PaintCorrectionMoire | 0.000000 |
PaintCorrectionSaturation (3) | 0.000000 |
PaintCorrectionSaturation | 0.010000 |
PaintCorrectionShadows2012 (1) | 0.000000 |
PaintCorrectionShadows2012 | 0.071430 |
PaintCorrectionSharpness | 0.000000 |
PaintCorrectionTemperature (1) | -0.057470 |
PaintCorrectionTemperature | 0.666670 |
PaintCorrectionTint | 0.000000 |
PaintCorrectionWhat | Correction |
ParametricDarks | +6 |
ParametricHighlights | -24 |
ParametricHighlightSplit | 75 |
ParametricLights | +9 |
ParametricMidtoneSplit | 50 |
ParametricShadows | -29 |
ParametricShadowSplit | 25 |
PerspectiveAspect | 0 |
PerspectiveHorizontal | 0 |
PerspectiveRotate | 0.0 |
PerspectiveScale | 100 |
PerspectiveUpright | 0 |
PerspectiveVertical | 0 |
PostCropVignetteAmount | -5 |
PostCropVignetteFeather | 50 |
PostCropVignetteHighlightContrast | 0 |
PostCropVignetteMidpoint | 50 |
PostCropVignetteRoundness | 0 |
PostCropVignetteStyle | 1 |
ProcessVersion | 6.7 |
ProfileDescription | sRGB IEC61966-2.1 |
RedHue | 0 |
RedSaturation | 0 |
Saturation (1) | -29 |
Saturation | Normal |
SaturationAdjustmentAqua | 0 |
SaturationAdjustmentBlue | 0 |
SaturationAdjustmentGreen | 0 |
SaturationAdjustmentMagenta | 0 |
SaturationAdjustmentOrange | 0 |
SaturationAdjustmentPurple | 0 |
SaturationAdjustmentRed | 0 |
SaturationAdjustmentYellow | 0 |
ScaleFactor35efl | 1.0 |
SceneCaptureType | Standard |
SceneType | Directly photographed |
SensingMethod | One-chip color area |
SensitivityType | Recommended Exposure Index |
SerialNumber | 6084305 |
Shadows2012 | +74 |
ShadowTint | 0 |
SharpenDetail | 25 |
SharpenEdgeMasking | 0 |
SharpenRadius | +1.0 |
Sharpness (1) | 77 |
Sharpness | Normal |
ShutterSpeed | 1/20 |
ShutterSpeedValue | 1/20 |
Software | Adobe Photoshop Lightroom 6.4 (Windows) |
SplitToningBalance | 0 |
SplitToningHighlightHue | 0 |
SplitToningHighlightSaturation | 0 |
SplitToningShadowHue | 0 |
SplitToningShadowSaturation | 0 |
SubjectDistanceRange | Unknown |
Tint | +9 |
ToneCurve | 0, 0, 255, 255 |
ToneCurveBlue | 0, 0, 255, 255 |
ToneCurveGreen | 0, 0, 255, 255 |
ToneCurveName | Linear |
ToneCurveName2012 | Linear |
ToneCurvePV2012 | 0, 0, 255, 255 |
ToneCurvePV2012Blue | 0, 0, 255, 255 |
ToneCurvePV2012Green | 0, 0, 255, 255 |
ToneCurvePV2012Red | 0, 0, 255, 255 |
ToneCurveRed | 0, 0, 255, 255 |
ToneMapStrength | 0 |
Version | 9.4 |
Vibrance | +38 |
VignetteAmount | 0 |
WhiteBalance (1) | Custom |
WhiteBalance | Auto |
Whites2012 | -5 |